BEGIN:VCALENDAR
VERSION:2.0
PRODID:-//ChamberMaster//Event Calendar 2.0//EN
METHOD:PUBLISH
X-PUBLISHED-TTL:P3D
REFRESH-INTERVAL:P3D
CALSCALE:GREGORIAN
BEGIN:VEVENT
DTSTART:20120529T210000Z
DTEND:20120530T010000Z
X-MICROSOFT-CDO-ALLDAYEVENT:FALSE
SUMMARY:Gold's Gym Membership Appreciation Party
DESCRIPTION:Gold's Gym Membership Appreciation Party!\n\n	\n\n	Gold's Gym hosts a monthly members party that is always open to the community.\n\n	\n\n	What: Monthly Membership Appreciation Party\n\n	Come to our Open House event and try Gold's Gym for FREE. Tanning\, Hydro-massage\, Zumba\, cardio and resistance equipment\, daycare\, and of course questions and answers for setting goals and achieving results.\n\n	Topic: Each month we have different Health and Wellness themes and local community sponsors providing food\, drinks\, wellness information\, and raffle prizes. Win a 43" Flat-screen in March. Promotional new member discounts always available during the party.\n\n	\n\n	When: May 29th\, 4pm to 8pm. Wellness Seminars begin at 5:40 pm. (Reoccurring Party the last Tuesday of each month 4pm to 8pm.)\n\n	\n\n	Where: Gold's Gym 200 Market Way (behind Winn-Dixie)Click here to edit...
X-ALT-DESC;FMTTYPE=text/html:<div style="color: gray">\n	Gold&#39\;s Gym Membership Appreciation Party!<br />\n	<br />\n	Gold&#39\;s Gym hosts a monthly members party that is always open to the community.<br />\n	<br />\n	What: Monthly Membership Appreciation Party<br />\n	Come to our Open House event and try Gold&#39\;s Gym for FREE. Tanning\, Hydro-massage\, Zumba\, cardio and resistance equipment\, daycare\, and of course questions and answers for setting goals and achieving results.<br />\n	Topic: Each month we have different Health and Wellness themes and local community sponsors providing food\, drinks\, wellness information\, and raffle prizes. Win a 43&quot\; Flat-screen in March. Promotional new member discounts always available during the party.<br />\n	<br />\n	When: May 29th\, 4pm to 8pm. Wellness Seminars begin at 5:40 pm. (Reoccurring Party the last Tuesday of each month 4pm to 8pm.)<br />\n	<br />\n	Where: Gold&#39\;s Gym 200 Market Way (behind Winn-Dixie)Click here to edit...</div>\n
LOCATION:Gold's Gym...Rainbow City
UID:e.1432.381465
SEQUENCE:3
DTSTAMP:20260422T180146Z
URL:http://business.etowahchamber.org/events/details/gold-s-gym-membership-appreciation-party-05-29-2012-381465
END:VEVENT

END:VCALENDAR
