BEGIN:VCALENDAR
VERSION:2.0
PRODID:-//ChamberMaster//Event Calendar 2.0//EN
METHOD:PUBLISH
X-PUBLISHED-TTL:P3D
REFRESH-INTERVAL:P3D
CALSCALE:GREGORIAN
BEGIN:VEVENT
DTSTART:20140516T130000Z
DTEND:20140516T220000Z
X-MICROSOFT-CDO-ALLDAYEVENT:FALSE
SUMMARY:Golf Tournament Benefiting United Way Sponsored by Team One Automotive Group
DESCRIPTION:Tournament will be played in Scramble with 4-person teams. \n\nIf you do not enter a team list\, you will be placed with others.\n\n1st\, 2nd and 3rd Place prizes awarded\n\n1st Hole-In-One on Par 3 wins $10\,000 \n\nLadies Longest Drive & Closest to the Pin Prizes
X-ALT-DESC;FMTTYPE=text/html:<span style="font-weight:bold\;language:en-US\;"><span style="font-family:arial\;"><span style="font-size:12.0pt\;">Tournament will be played in Scramble with 4-person teams. </span></span></span><br />\n<span style="font-weight:bold\;language:en-US\;"><span style="font-family:arial\;"><span style="font-size:12.0pt\;">If you do not enter a team list\, you will be placed with others.</span></span></span><br />\n<span style="font-weight:bold\;language:en-US\;"><span style="font-family:arial\;"><span style="font-size:12.0pt\;">1st\, 2nd and 3rd Place prizes awarded</span></span></span><br />\n<span style="font-weight:bold\;language:en-US\;"><span style="font-family:arial\;"><span style="font-size:12.0pt\;">1st Hole-In-One on Par 3 wins $10\,000 </span></span></span><br />\n<span style="font-weight:bold\;language:en-US\;"><span style="font-family:arial\;"><span style="font-size:12.0pt\;">Ladies Longest Drive &amp\; Closest to the Pin Prizes</span></span></span>
LOCATION:Silver Lakes Golf Club-Robert Trent Jones Golf Trail 1 Sunbelt Parkway\, Glencoe\, Alabama 35905
UID:e.1432.384451
SEQUENCE:3
DTSTAMP:20260422T195335Z
URL:http://business.etowahchamber.org/events/details/golf-tournament-benefiting-united-way-sponsored-by-team-one-automotive-group-05-16-2014-384451
END:VEVENT

END:VCALENDAR
