BEGIN:VCALENDAR
VERSION:2.0
PRODID:-//ChamberMaster//Event Calendar 2.0//EN
METHOD:PUBLISH
X-PUBLISHED-TTL:P3D
REFRESH-INTERVAL:P3D
CALSCALE:GREGORIAN
BEGIN:VEVENT
DTSTART:20201015T150000Z
DTEND:20201015T170000Z
X-MICROSOFT-CDO-ALLDAYEVENT:FALSE
SUMMARY:Goodwill Store & Donation Drive-Thru Grand Opening
DESCRIPTION:Goodwill is excited to join the Rainbow City community! You are invited to shop our new store and donate using our new donation drive-thru during our Grand Opening Event and Ribbon-cutting Ceremony! There will be giveaways and great deals all day long!
X-ALT-DESC;FMTTYPE=text/html:<span style="font-size:16px\;"><span style="font-family:arial\;">Goodwill is excited to join the Rainbow City community! You are invited to shop our new store and donate using our new donation drive-thru during our Grand Opening Event and Ribbon-cutting Ceremony! There will be giveaways and great deals all day long!</span></span>
LOCATION:Sutton Square Shopping Center
UID:e.1432.403302
SEQUENCE:3
DTSTAMP:20260421T081545Z
URL:http://business.etowahchamber.org/events/details/goodwill-store-donation-drive-thru-grand-opening-403302
END:VEVENT

END:VCALENDAR
