BEGIN:VCALENDAR
VERSION:2.0
PRODID:-//ChamberMaster//Event Calendar 2.0//EN
METHOD:PUBLISH
X-PUBLISHED-TTL:P3D
REFRESH-INTERVAL:P3D
CALSCALE:GREGORIAN
BEGIN:VEVENT
DTSTART:20130410T183000Z
DTEND:20130410T213000Z
X-MICROSOFT-CDO-ALLDAYEVENT:FALSE
SUMMARY:GPL Basic Computer Classes
DESCRIPTION:April 10-Downloading & Saving Your Docs & Files April 17-Microsoft PowerPoint Prerequisite: Computer Basics for the Beginner Classes are free\, but a $5.00 deposit (per class) and registration is required to hold your reservation. Your deposit will be returned to you the day of the class. For further information please contact Craig at: craig@gadsdenlibrary.org or by calling (256) 549-4699\, x 120.
X-ALT-DESC;FMTTYPE=text/html:April 10-Downloading &amp\; Saving Your Docs &amp\; Files April 17-Microsoft PowerPoint Prerequisite: Computer Basics for the Beginner Classes are free\, but a $5.00 deposit (per class) and registration is required to hold your reservation. Your deposit will be returned to you the day of the class. For further information please contact Craig at: craig@gadsdenlibrary.org or by calling (256) 549-4699\, x 120. 
LOCATION:Gadsden Public Library
UID:e.1432.383143
SEQUENCE:3
DTSTAMP:20260423T093727Z
URL:http://business.etowahchamber.org/events/details/gpl-basic-computer-classes-04-10-2013-383143
END:VEVENT

END:VCALENDAR
