BEGIN:VCALENDAR
VERSION:2.0
PRODID:-//ChamberMaster//Event Calendar 2.0//EN
METHOD:PUBLISH
X-PUBLISHED-TTL:P3D
REFRESH-INTERVAL:P3D
CALSCALE:GREGORIAN
BEGIN:VEVENT
DTSTART:20131009T183000Z
DTEND:20131009T203000Z
X-MICROSOFT-CDO-ALLDAYEVENT:FALSE
SUMMARY:GPL Computer Class: Downloading & Saving Your Docs & Files
DESCRIPTION:Downloading & Saving Your Docs & Files\n\n	When:  October 9\, 1:30-3:30PM\n\n	This class will teach you how to download & save documents and files that you find on the Internet or receive from friends or business associates via email.  Downloading can be tricky\, but you'll become an expert.\n\n	Prerequisite: Computer Basics for the Beginner\n\n	Click here to edit...
X-ALT-DESC;FMTTYPE=text/html:<div style="color: gray\;">\n	<span style="font-size: medium\;"><span style="font-family: times new roman\;"><strong>Downloading &amp\; Saving Your Docs &amp\; Files</strong></span></span><br />\n	<span style="font-size: medium\;"><span style="font-family: times new roman\;"><strong>When:&nbsp\; October 9\, 1:30-3:30PM</strong></span></span><br />\n	<span style="font-size: medium\;"><span style="font-family: times new roman\;"><em>This class will teach you how to download &amp\; save documents and files that you find on the Internet or receive from friends or business associates via email.&nbsp\; Downloading can be tricky\, but you&rsquo\;ll become an expert.</em></span></span><br />\n	<span style="font-size: medium\;"><span style="font-family: times new roman\;"><strong>Prerequisite:</strong></span> <strong><em>Computer Basics for the Beginner</em></strong></span><br />\n	Click here to edit...</div>\n
LOCATION:Gadsden Public Library Computer Classroom (2nd Floor) of the Main Library
UID:e.1432.384108
SEQUENCE:3
DTSTAMP:20260423T051956Z
URL:http://business.etowahchamber.org/events/details/gpl-computer-class-downloading-saving-your-docs-files-10-09-2013-384108
END:VEVENT

END:VCALENDAR
