BEGIN:VCALENDAR
VERSION:2.0
PRODID:-//ChamberMaster//Event Calendar 2.0//EN
METHOD:PUBLISH
X-PUBLISHED-TTL:P3D
REFRESH-INTERVAL:P3D
CALSCALE:GREGORIAN
BEGIN:VEVENT
DTSTART:20131016T183000Z
DTEND:20131016T203000Z
X-MICROSOFT-CDO-ALLDAYEVENT:FALSE
SUMMARY:GPL Computer Class: Microsoft PowerPoint
DESCRIPTION:Microsoft PowerPoint\n\n	When:  October 16\, 1:30-3:30PM\n\n	Need help in learning and using Microsoft PowerPoint for great presentations or for making handouts?  If so\, the Gadsden Public Library has the perfect class for you!  Join us!\n\n	Prerequisite: Computer Basics for the Beginner\n\n	Click here to edit...
X-ALT-DESC;FMTTYPE=text/html:<div style="color: gray\;">\n	<span style="font-size: medium\;"><span style="font-family: times new roman\;"><strong>Microsoft PowerPoint</strong></span></span><br />\n	<span style="font-size: medium\;"><span style="font-family: times new roman\;"><strong>When:&nbsp\; October 16\, 1:30-3:30PM</strong></span></span><br />\n	<span style="font-size: medium\;"><span style="font-family: times new roman\;"><em>Need help in learning and using Microsoft PowerPoint for great presentations or for making handouts? &nbsp\;If so\, the Gadsden Public Library has the perfect class for you!&nbsp\; Join us!</em></span></span><br />\n	<span style="font-size: medium\;"><span style="font-family: times new roman\;"><strong>Prerequisite:</strong></span> <strong><em>Computer Basics for the Beginner</em></strong></span><br />\n	Click here to edit...</div>\n
LOCATION:Gadsden Public Library Computer Classroom (2nd Floor) of the Main Library
UID:e.1432.384109
SEQUENCE:3
DTSTAMP:20260423T051956Z
URL:http://business.etowahchamber.org/events/details/gpl-computer-class-microsoft-powerpoint-10-16-2013-384109
END:VEVENT

END:VCALENDAR
