BEGIN:VCALENDAR
VERSION:2.0
PRODID:-//ChamberMaster//Event Calendar 2.0//EN
METHOD:PUBLISH
X-PUBLISHED-TTL:P3D
REFRESH-INTERVAL:P3D
CALSCALE:GREGORIAN
BEGIN:VEVENT
DTSTART:20131001T183000Z
DTEND:20131002T213000Z
X-MICROSOFT-CDO-ALLDAYEVENT:FALSE
SUMMARY:GPL Computer Classes
DESCRIPTION:GPL Computer Classes\n\n	\n\n	Where:  Computer Classroom (2nd Floor) of the Main Library\n\n	\n\n	Cost:  Classes are offered free-of-charge to the community!  However\, there is a $5.00 deposit (per class) to hold your reservation.  Your deposit will be returned to you the day of the class.  PLEASE NOTE:  Registration is required since space is limited to 12 people per class.  Register for classes in person at the Computer Center Desk (2nd floor) or for more information\, call 256.549.4699\, ext. 119.  A current (free & clear) library card is needed to enroll.  If you don't have a card\, you may obtain one at the Circulation Desk\, 1st floor of the Main Library.\n\n	Computer Basics & Internet for the Beginner\n\n	When:  October 1 & 2\, 1:30-4:30PM\n\n	This is a two-day class (3 hours per day) for the absolute beginner or for those who simply need to know more about computers.  No computer experience is required.\n\n	Click here to edit...
X-ALT-DESC;FMTTYPE=text/html:<div style="color: gray\;">\n	<span style="font-family: times new roman\;"><strong><span style="font-size: 14pt\;">GPL Computer Classes</span></strong></span><br />\n	<br />\n	<span style="font-family: times new roman\;"><span style="font-size: medium\;">Where:&nbsp\; Computer Classroom (2</span></span><sup><span style="font-size: small\;">nd</span></sup><span style="font-size: medium\;"> Floor) of the Main Library</span><br />\n	<br />\n	<span style="font-size: medium\;"><span style="font-family: times new roman\;">Cost:&nbsp\; Classes are offered <u>free-of-charge</u> to the community!&nbsp\; However\, there is a $5.00 deposit (per class) to hold your reservation.&nbsp\; Your <u>deposit will be returned to you</u> the day of the class.&nbsp\; PLEASE NOTE:&nbsp\; Registration is required since space is limited to 12 people per class.&nbsp\; Register for classes in person at the Computer Center Desk (2nd floor) or for more information\, call 256.549.4699\, ext. 119.&nbsp\; A current (free &amp\; clear) library card is needed to enroll.&nbsp\; If you don&rsquo\;t have a card\, you may obtain one at the Circulation Desk\, 1st floor of the Main Library.</span></span><br />\n	<span style="font-size: medium\;"><span style="font-family: times new roman\;"><strong>Computer Basics &amp\; Internet for the Beginner</strong></span></span><br />\n	<span style="font-size: medium\;"><span style="font-family: times new roman\;"><strong>When:&nbsp\; October 1 &amp\; 2\, 1:30-4:30PM</strong></span></span><br />\n	<span style="font-size: medium\;"><span style="font-family: times new roman\;"><em>This is a <u>two-day class</u> (3 hours per day) for the absolute beginner or for those who simply need to know more about computers.&nbsp\; No computer experience is required.</em></span></span><br />\n	Click here to edit...</div>\n
LOCATION:Gadsden Public Library Computer Classroom (2nd Floor) of the Main Library
UID:e.1432.384107
SEQUENCE:3
DTSTAMP:20260423T051957Z
URL:http://business.etowahchamber.org/events/details/gpl-computer-classes-10-01-2013-384107
END:VEVENT

END:VCALENDAR
