BEGIN:VCALENDAR
VERSION:2.0
PRODID:-//ChamberMaster//Event Calendar 2.0//EN
METHOD:PUBLISH
X-PUBLISHED-TTL:P3D
REFRESH-INTERVAL:P3D
CALSCALE:GREGORIAN
BEGIN:VEVENT
DTSTART:20191002T143000Z
DTEND:20191002T173000Z
X-MICROSOFT-CDO-ALLDAYEVENT:FALSE
SUMMARY:GPL Computer Classes
DESCRIPTION:GPL Computer Classes\n\nWhere:  Computer Classroom (2nd Floor) of the Main Library\n\n	October 1 & 2\, 9:30 AM-12:30 PM-Computer Basics for Beginners\n	October 9\, 9:30-11:30 AM-Downloading & Saving Files\n	October 16\, 9:30-11:30 AM-Microsoft PowerPoint\n	October 23\, 9:30-11:30 AM-Email\n\nRegistration is required since space is limited to 12 people per class.  For further information please contact Craig or Fred at (256) 549-4699\, ext. 2120 or 2116.
X-ALT-DESC;FMTTYPE=text/html:<span style="font-size:16px\;"><span style="font-family:arial\;">GPL Computer Classes<br />\nWhere:&nbsp\; Computer Classroom (2nd Floor) of the Main Library</span></span>\n<ul>\n	<li><span style="font-size:16px\;"><span style="font-family:arial\;">October 1 &amp\; 2\, 9:30 AM-12:30 PM-Computer Basics for Beginners</span></span></li>\n	<li><span style="font-size:16px\;"><span style="font-family:arial\;">October 9\, 9:30-11:30 AM-Downloading &amp\; Saving Files</span></span></li>\n	<li><span style="font-size:16px\;"><span style="font-family:arial\;">October 16\, 9:30-11:30 AM-Microsoft PowerPoint</span></span></li>\n	<li><span style="font-size:16px\;"><span style="font-family:arial\;">October 23\, 9:30-11:30 AM-Email</span></span></li>\n</ul>\n<span style="font-size:16px\;"><span style="font-family:arial\;">Registration is required since space is limited to 12 people per class.&nbsp\; For further information please contact Craig or Fred at (256) 549-4699\, ext. 2120 or 2116.</span></span>
LOCATION:Gadsden Public Library
UID:e.1432.401417
SEQUENCE:3
DTSTAMP:20260422T083551Z
URL:http://business.etowahchamber.org/events/details/gpl-computer-classes-10-02-2019-401417
END:VEVENT

END:VCALENDAR
