BEGIN:VCALENDAR
VERSION:2.0
PRODID:-//ChamberMaster//Event Calendar 2.0//EN
METHOD:PUBLISH
X-PUBLISHED-TTL:P3D
REFRESH-INTERVAL:P3D
CALSCALE:GREGORIAN
BEGIN:VEVENT
DTSTART:20150312T230000Z
DTEND:20150313T050000Z
X-MICROSOFT-CDO-ALLDAYEVENT:FALSE
SUMMARY:Grand OLLI Gala
DESCRIPTION:The Osher Lifelong Learning Institute at The University of Alabama (OLLI at UA) is hosting a gala on Thursday\, March 12\, 2015 in the Zone at Bryant-Denny Football Stadium. The purpose of this event is to thank OLLI members for their generosity.
X-ALT-DESC;FMTTYPE=text/html:The Osher Lifelong Learning Institute at The University of Alabama (OLLI at UA) is hosting a gala on Thursday\, March 12\, 2015 in the Zone at Bryant-Denny Football Stadium. The purpose of this event is to thank OLLI members for their generosity.
LOCATION:The Zone in Bryant-Denny Stadium
UID:e.1432.385660
SEQUENCE:3
DTSTAMP:20260422T064308Z
URL:http://business.etowahchamber.org/events/details/grand-olli-gala-03-12-2015-385660
END:VEVENT

END:VCALENDAR
