BEGIN:VCALENDAR
VERSION:2.0
PRODID:-//ChamberMaster//Event Calendar 2.0//EN
METHOD:PUBLISH
X-PUBLISHED-TTL:P3D
REFRESH-INTERVAL:P3D
CALSCALE:GREGORIAN
BEGIN:VEVENT
DTSTART:20130214T170000Z
DTEND:20130214T200000Z
X-MICROSOFT-CDO-ALLDAYEVENT:FALSE
SUMMARY:Grand Opening / State Farm Randy Swearengin
DESCRIPTION:Come join Randy Swearengin State Farm Agency for their Grand Opening celebration.  Ribbon cutting will be at 11:00 am followed by food\, fun and giveaways.  Stop by and celebrate with us and pick up a free flower for your valentine!  See you there!
X-ALT-DESC;FMTTYPE=text/html:<span style="font-size: 14px"><span style="font-family: tahoma"><span style="color: #ff0000"><strong>Come join Randy Swearengin State Farm Agency&nbsp\;for their Grand Opening celebration.&nbsp\; Ribbon cutting will be at 11:00 am followed by food\, fun and giveaways.&nbsp\; Stop by and celebrate with us and pick up a free flower for your valentine!&nbsp\; See you there!</strong></span></span></span>
LOCATION:725 Gilbert Ferry Rd. SE\, Attalla\, AL 35954
UID:e.1432.383060
SEQUENCE:3
DTSTAMP:20260423T060948Z
URL:http://business.etowahchamber.org/events/details/grand-opening-state-farm-randy-swearengin-02-14-2013-383060
END:VEVENT

END:VCALENDAR
