BEGIN:VCALENDAR
VERSION:2.0
PRODID:-//ChamberMaster//Event Calendar 2.0//EN
METHOD:PUBLISH
X-PUBLISHED-TTL:P3D
REFRESH-INTERVAL:P3D
CALSCALE:GREGORIAN
BEGIN:VEVENT
DTSTART:20130206T000000Z
DTEND:20130206T030000Z
X-MICROSOFT-CDO-ALLDAYEVENT:FALSE
SUMMARY:GRMC Go Red for Women
DESCRIPTION:This year marks the 9th annual Gadsden Regional Medical Center Go Red for Women celebration event. Our event will include FOX 6 Anchor Janice Rogers as the emcee\, Dr. Andy Vann\, ER Physicians\, as the keynote speaker\, and a wonderful dinner by Cothran's. Come enjoy a game-show type of experience\, complete with great door prizes and a fashion show by Belk and Jireh's Boutique.
X-ALT-DESC;FMTTYPE=text/html:This year marks the 9th annual Gadsden Regional Medical Center Go Red for Women celebration event. Our event will include FOX 6 Anchor Janice Rogers as the emcee\, Dr. Andy Vann\, ER Physicians\, as the keynote speaker\, and a wonderful dinner by Cothran&#39\;s. Come enjoy a game-show type of experience\, complete with great door prizes and a fashion show by Belk and Jireh&#39\;s Boutique. 
LOCATION:Convention Hall
UID:e.1432.383075
SEQUENCE:3
DTSTAMP:20260423T060656Z
URL:http://business.etowahchamber.org/events/details/grmc-go-red-for-women-02-05-2013-383075
END:VEVENT

END:VCALENDAR
