BEGIN:VCALENDAR
VERSION:2.0
PRODID:-//ChamberMaster//Event Calendar 2.0//EN
METHOD:PUBLISH
X-PUBLISHED-TTL:P3D
REFRESH-INTERVAL:P3D
CALSCALE:GREGORIAN
BEGIN:VEVENT
DTSTART:20180716T190000Z
DTEND:20180716T200000Z
X-MICROSOFT-CDO-ALLDAYEVENT:FALSE
SUMMARY:Groundbreaking for Gadsden Public Library: Open Spaces Sacred Places
DESCRIPTION:Join The Chamber for a groundbreaking at the future site of Gadsden Public Library's Open Spaces Sacred Places! Open Spaces Sacred Places will be a sensory garden located in front of Gadsden Public library. Come hear remarks from the library staff and representatives of the Northeast Alabama Community Foundation! Enjoy refreshments following the groundbreaking ceremony! Visit them at Gadsden Public Library on Facebook before the event.
X-ALT-DESC;FMTTYPE=text/html:<span style="font-size:16px\;"><span style="font-family:arial\;">Join The Chamber for a groundbreaking at the future site of Gadsden Public Library&#39\;s Open Spaces Sacred Places! Open Spaces Sacred Places will be a sensory garden located in front of Gadsden Public library. Come hear remarks from the library staff and representatives of the Northeast Alabama Community Foundation! Enjoy refreshments following the groundbreaking ceremony! Visit them at <b><a href="https://www.facebook.com/gadsdenlibrary/"><span style="color:#0000FF\;">Gadsden Public Library</span></a></b><font color="#0000ff"><b>&nbsp\;</b></font>on Facebook before the event.</span></span>
LOCATION:Gadsden Public Library(Main Branch) 254 South College Street Gadsden\, AL 35901
UID:e.1432.397949
SEQUENCE:3
DTSTAMP:20260421T122513Z
URL:http://business.etowahchamber.org/events/details/groundbreaking-for-gadsden-public-library-open-spaces-sacred-places-397949
END:VEVENT

END:VCALENDAR
