BEGIN:VCALENDAR
VERSION:2.0
PRODID:-//ChamberMaster//Event Calendar 2.0//EN
METHOD:PUBLISH
X-PUBLISHED-TTL:P3D
REFRESH-INTERVAL:P3D
CALSCALE:GREGORIAN
BEGIN:VEVENT
DTSTART;VALUE=DATE:20120604
DTEND;VALUE=DATE:20120605
TRANSP:TRANSPARENT
X-MICROSOFT-CDO-ALLDAYEVENT:TRUE
SUMMARY:GSCC Jr. Varsity Boys Basketball Camp
DESCRIPTION:Jr. Varsity Boys Basketball Camp
X-ALT-DESC;FMTTYPE=text/html:Jr. Varsity Boys Basketball Camp
LOCATION:Beck Field House
UID:e.1432.381495
SEQUENCE:3
DTSTAMP:20260422T192842Z
URL:http://business.etowahchamber.org/events/details/gscc-jr-varsity-boys-basketball-camp-06-04-2012-381495
END:VEVENT

END:VCALENDAR
