BEGIN:VCALENDAR
VERSION:2.0
PRODID:-//ChamberMaster//Event Calendar 2.0//EN
METHOD:PUBLISH
X-PUBLISHED-TTL:P3D
REFRESH-INTERVAL:P3D
CALSCALE:GREGORIAN
BEGIN:VEVENT
DTSTART:20130417T140000Z
DTEND:20130417T163000Z
X-MICROSOFT-CDO-ALLDAYEVENT:FALSE
SUMMARY:GSCC Spring Employment Fair
DESCRIPTION:
X-ALT-DESC;FMTTYPE=text/html:
LOCATION:East Broad Campus\, Administration Building
UID:e.1432.381890
SEQUENCE:3
DTSTAMP:20260423T083808Z
URL:http://business.etowahchamber.org/events/details/gscc-spring-employment-fair-04-17-2013-381890
END:VEVENT

END:VCALENDAR
