BEGIN:VCALENDAR
VERSION:2.0
PRODID:-//ChamberMaster//Event Calendar 2.0//EN
METHOD:PUBLISH
X-PUBLISHED-TTL:P3D
REFRESH-INTERVAL:P3D
CALSCALE:GREGORIAN
BEGIN:VEVENT
DTSTART;VALUE=DATE:20121031
DTEND;VALUE=DATE:20121101
TRANSP:TRANSPARENT
X-MICROSOFT-CDO-ALLDAYEVENT:TRUE
SUMMARY:Halloween - Free Kids Cup at YOGURTIME!
DESCRIPTION:Bring your child (8th grade or younger) to It's Yogurtime in their Halloween costume and receive a free kids cup yogurt.
X-ALT-DESC;FMTTYPE=text/html:Bring your child (8th grade or younger) to It&#39\;s Yogurtime in their Halloween costume and receive a free kids cup yogurt. &nbsp\;
LOCATION:It's Yogurtime - Gadsden
UID:e.1432.382793
SEQUENCE:3
DTSTAMP:20260423T003951Z
URL:http://business.etowahchamber.org/events/details/halloween-free-kids-cup-at-yogurtime-10-31-2012-382793
END:VEVENT

END:VCALENDAR
