BEGIN:VCALENDAR
VERSION:2.0
PRODID:-//ChamberMaster//Event Calendar 2.0//EN
METHOD:PUBLISH
X-PUBLISHED-TTL:P3D
REFRESH-INTERVAL:P3D
CALSCALE:GREGORIAN
BEGIN:VEVENT
DTSTART:20201011T000000Z
DTEND:20201011T023000Z
X-MICROSOFT-CDO-ALLDAYEVENT:FALSE
SUMMARY:Halloween Movie Night at the Falls
DESCRIPTION:Come enjoy a free kid friendly Halloween movie free to the public at Noccalula Falls. The movie will be on the front lawn in front of the gift shop.\n\n\n\nPlease follow all current COVID guidelines
X-ALT-DESC;FMTTYPE=text/html:<span style="font-family:arial\;"><span style="font-size:16px\;">Come enjoy a free kid friendly Halloween movie free to the public at Noccalula Falls. The movie will be on the front lawn in front of the gift shop.<br />\n<br />\nPlease follow all current COVID guidelines</span></span>
LOCATION:Noccalula Falls Park
UID:e.1432.403309
SEQUENCE:3
DTSTAMP:20260421T081944Z
URL:http://business.etowahchamber.org/events/details/halloween-movie-night-at-the-falls-403309
END:VEVENT

END:VCALENDAR
