BEGIN:VCALENDAR
VERSION:2.0
PRODID:-//ChamberMaster//Event Calendar 2.0//EN
METHOD:PUBLISH
X-PUBLISHED-TTL:P3D
REFRESH-INTERVAL:P3D
CALSCALE:GREGORIAN
BEGIN:VEVENT
DTSTART:20141011T193000Z
DTEND:20141011T220000Z
X-MICROSOFT-CDO-ALLDAYEVENT:FALSE
SUMMARY:Halloween Super Bash
DESCRIPTION:The Halloween Super Bash is an outdoor festival for the kids!. Ghost Town Express train rides\, Petting Zoo\, Trick-or-Treat\, Games\, prizes\, candy\, inflatables\, dress up\, and much more!\n\n(extra cost for food and the Gyro rides).
X-ALT-DESC;FMTTYPE=text/html:<span style="color: rgb(68\, 68\, 68)\; font-family: 'Open Sans'\, Helvetica\, Arial\, sans-serif\; font-size: 14px\; line-height: 24px\;">The Halloween Super Bash is an outdoor festival for the kids!. Ghost Town Express train rides\, Petting Zoo\, Trick-or-Treat\, Games\, prizes\, candy\, inflatables\, dress up\, and much more!</span><br style="color: rgb(68\, 68\, 68)\; font-family: 'Open Sans'\, Helvetica\, Arial\, sans-serif\; font-size: 14px\; line-height: 24px\;" />\n<span style="color: rgb(68\, 68\, 68)\; font-family: 'Open Sans'\, Helvetica\, Arial\, sans-serif\; font-size: 14px\; line-height: 24px\;">(extra cost for food and the Gyro rides).</span>
LOCATION:Noccalula Falls Park Noccalula Falls Campgrounds 1600 Noccalula Road\, Gadsden\, AL 35904
UID:e.1432.384270
SEQUENCE:3
DTSTAMP:20260422T132748Z
URL:http://business.etowahchamber.org/events/details/halloween-super-bash-10-11-2014-384270
END:VEVENT

END:VCALENDAR
