BEGIN:VCALENDAR
VERSION:2.0
PRODID:-//ChamberMaster//Event Calendar 2.0//EN
METHOD:PUBLISH
X-PUBLISHED-TTL:P3D
REFRESH-INTERVAL:P3D
CALSCALE:GREGORIAN
BEGIN:VEVENT
DTSTART:20140416T140000Z
DTEND:20140416T170000Z
X-MICROSOFT-CDO-ALLDAYEVENT:FALSE
SUMMARY:Health Fair 2014 "Seniors are never to old to play"
DESCRIPTION:The Council on Aging of Etowah County will host its "Health Fair 2014".  This event is for Senior Citizens 55 and older\, or 50 and older and disabled.  The event is free\, and the first 200 Seniors to finish visiting with ten (10) vendors will receive a free t-shirt.
X-ALT-DESC;FMTTYPE=text/html:The Council on Aging of Etowah County will host its &quot\;Health Fair 2014&quot\;.&nbsp\; This event is for Senior Citizens 55 and older\, or 50 and older and disabled.&nbsp\; The event is free\, and the first 200 Seniors to finish visiting with ten (10) vendors will receive a free t-shirt.&nbsp\;
LOCATION:Convention Hall
UID:e.1432.384430
SEQUENCE:3
DTSTAMP:20260422T211352Z
URL:http://business.etowahchamber.org/events/details/health-fair-2014-seniors-are-never-to-old-to-play-04-16-2014-384430
END:VEVENT

END:VCALENDAR
