BEGIN:VCALENDAR
VERSION:2.0
PRODID:-//ChamberMaster//Event Calendar 2.0//EN
METHOD:PUBLISH
X-PUBLISHED-TTL:P3D
REFRESH-INTERVAL:P3D
CALSCALE:GREGORIAN
BEGIN:VEVENT
DTSTART:20141011T140000Z
DTEND:20141011T190000Z
X-MICROSOFT-CDO-ALLDAYEVENT:FALSE
SUMMARY:Healthy Lifestyles\, Healthy Communities Festival
DESCRIPTION:Join Quality of Life Health Services Inc. at the Healthy Lifestyles\, Healthy Communities Festival on Saturday\, October 11\, 2014 at Quality of Life Health Complex at 1411 Piedmont Cutoff\, Gadsden\, AL! There will be free medical\, vision\, & dental screenings!\n\nFestivities to include:\n\n	Face Painting\n	Inflatables\n	 The Cat in the Hat\n	Gadsden Fire Department Smoke House\n	Zumba Demonstrations\n	and Much More!
X-ALT-DESC;FMTTYPE=text/html:Join Quality of Life Health Services Inc. at the Healthy Lifestyles\, Healthy Communities Festival on Saturday\, October 11\, 2014 at Quality of Life Health Complex at 1411 Piedmont Cutoff\, Gadsden\, AL! There will be free medical\, vision\, &amp\; dental screenings!<br />\nFestivities to include:\n<ul>\n	<li>Face Painting</li>\n	<li>Inflatables</li>\n	<li>&#8203\;The Cat in the Hat</li>\n	<li>Gadsden Fire Department Smoke House</li>\n	<li>Zumba&nbsp\;Demonstrations</li>\n	<li>and Much More!</li>\n</ul>\n
LOCATION:Quality of Life Health Complex 1411 Piedmont Cutoff Gadsden\, AL
UID:e.1432.385030
SEQUENCE:3
DTSTAMP:20260422T133313Z
URL:http://business.etowahchamber.org/events/details/healthy-lifestyles-healthy-communities-festival-10-11-2014-385030
END:VEVENT

END:VCALENDAR
