BEGIN:VCALENDAR
VERSION:2.0
PRODID:-//ChamberMaster//Event Calendar 2.0//EN
METHOD:PUBLISH
X-PUBLISHED-TTL:P3D
REFRESH-INTERVAL:P3D
CALSCALE:GREGORIAN
BEGIN:VEVENT
DTSTART;VALUE=DATE:20201003
DTEND;VALUE=DATE:20201004
TRANSP:TRANSPARENT
X-MICROSOFT-CDO-ALLDAYEVENT:TRUE
SUMMARY:Highway 411 Yard Sale
DESCRIPTION:Enjoy yard sale treasures and gorgeous fall foliage as you travel from Alabama to the scenic Smoky Mountains of Tennessee at the Hwy 411 More than 250 miles along U.S. Highway 411 Leeds\, Alabama to Knoxville\, Tennessee\, with stops in Cave Spring\, Georgia\n\n\n\nAdditional Information\n\nFirst Full Weekend In October Yard sale vendors set up along the U.S. Hwy 411 route from Leeds\, AL to Knoxville\, TN\, passing through Cave Spring Georgia.
X-ALT-DESC;FMTTYPE=text/html:<span style="font-size:16px\;"><span style="font-family:arial\;">Enjoy yard sale treasures and gorgeous fall foliage as you travel from Alabama to the scenic Smoky Mountains of Tennessee at the Hwy 411 More than 250 miles along U.S. Highway 411 Leeds\, Alabama to Knoxville\, Tennessee\, with stops in Cave Spring\, Georgia<br />\n<br />\n<strong>Additional Information</strong><br />\nFirst Full Weekend In October Yard sale vendors set up along the U.S. Hwy 411 route from Leeds\, AL to Knoxville\, TN\, passing through Cave Spring Georgia.</span></span>
LOCATION:
UID:e.1432.403307
SEQUENCE:3
DTSTAMP:20260421T081746Z
URL:http://business.etowahchamber.org/events/details/highway-411-yard-sale-10-03-2020-403307
END:VEVENT

END:VCALENDAR
