BEGIN:VCALENDAR
VERSION:2.0
PRODID:-//ChamberMaster//Event Calendar 2.0//EN
METHOD:PUBLISH
X-PUBLISHED-TTL:P3D
REFRESH-INTERVAL:P3D
CALSCALE:GREGORIAN
BEGIN:VEVENT
DTSTART;VALUE=DATE:20181004
DTEND;VALUE=DATE:20181005
TRANSP:TRANSPARENT
X-MICROSOFT-CDO-ALLDAYEVENT:TRUE
SUMMARY:Highway 411 Yard Sale
DESCRIPTION:Enjoy yard sale treasures and gorgeous fall foliage as you travel from Alabama to the scenic Smoky Mountains of Tennessee at the Hwy 411 Yard Sale.\n\n\n\nHeld annually since 2003\, the Hwy 411 Yard Sale spans three states and more than 250 miles. Hwy. 411 stretches about 16 miles through Rainbow City and Gadsden in Etowah County.
X-ALT-DESC;FMTTYPE=text/html:<span style="font-size:16px\;"><span style="font-family:arial\;">Enjoy yard sale treasures and gorgeous fall foliage as you travel from Alabama to the scenic Smoky Mountains of Tennessee at the Hwy 411 Yard Sale.<br />\n<br />\nHeld annually since 2003\, the Hwy 411 Yard Sale spans three states and more than 250 miles. Hwy. 411 stretches about 16 miles through Rainbow City and Gadsden in Etowah County.</span></span>
LOCATION:Highway 411
UID:e.1432.398141
SEQUENCE:3
DTSTAMP:20260422T192931Z
URL:http://business.etowahchamber.org/events/details/highway-411-yard-sale-10-04-2018-398141
END:VEVENT

END:VCALENDAR
