BEGIN:VCALENDAR
VERSION:2.0
PRODID:-//ChamberMaster//Event Calendar 2.0//EN
METHOD:PUBLISH
X-PUBLISHED-TTL:P3D
REFRESH-INTERVAL:P3D
CALSCALE:GREGORIAN
BEGIN:VEVENT
DTSTART:20200918T140000Z
DTEND:20200918T200000Z
X-MICROSOFT-CDO-ALLDAYEVENT:FALSE
SUMMARY:Hiring Event at Goodwill
DESCRIPTION:Hiring Event with Goodwill Alabama!\n\n\n	Great Benefits & Rewards Available\n	Full-time & all positions needed\n\nMUST APPLY IN ADVANCE\n\nApply at alabamagoodwill.org/careers\n\n\n\n*Alabama Goodwill Industries is an EOE committed to creating a diverse workforce. We are proud to be an EOE/AAE\, making decisions without regard to race \, color\, religion\, creed\, sex\, sexual orientation\, gender indentity\, marital status\, national origin\, age\, veteran status\, disability\, or any other protected class
X-ALT-DESC;FMTTYPE=text/html:<span style="font-size:16px\;"><span style="font-family:arial\;">Hiring Event with Goodwill Alabama!</span></span>\n\n<ul>\n	<li><span style="font-size:16px\;"><span style="font-family:arial\;">Great Benefits &amp\; Rewards Available</span></span></li>\n	<li><span style="font-size:16px\;"><span style="font-family:arial\;">Full-time &amp\; all positions needed</span></span></li>\n</ul>\n<span style="font-size:16px\;"><span style="font-family:arial\;"><u><strong><span style="background-color:#FFFF00\;">MUST APPLY IN ADVANCE</span></strong></u><br />\nApply at <strong><a href="http://alabamagoodwill.org/careers"><span style="color:#0000FF\;">alabamagoodwill.org/careers</span></a></strong></span></span><br />\n<br />\n<span style="font-family: arial\; font-size: 16px\;"><span style="font-size:14px\;"><em><strong>*Alabama Goodwill Industries is an EOE committed to creating a diverse workforce. We are proud to be an EOE/AAE\, making decisions without regard to race \, color\, religion\, creed\, sex\, sexual orientation\, gender indentity\, marital status\, national origin\, age\, veteran status\, disability\, or any other protected class</strong></em></span></span>
LOCATION:Goodwill- Gadsden
UID:e.1432.403293
SEQUENCE:3
DTSTAMP:20260419T153853Z
URL:http://business.etowahchamber.org/events/details/hiring-event-at-goodwill-403293
END:VEVENT

END:VCALENDAR
