BEGIN:VCALENDAR
VERSION:2.0
PRODID:-//ChamberMaster//Event Calendar 2.0//EN
METHOD:PUBLISH
X-PUBLISHED-TTL:P3D
REFRESH-INTERVAL:P3D
CALSCALE:GREGORIAN
BEGIN:VEVENT
DTSTART:20140927T130000Z
DTEND:20140927T190000Z
X-MICROSOFT-CDO-ALLDAYEVENT:FALSE
SUMMARY:Hokes Bluff Lion's Club Annual Car Show
DESCRIPTION:Get your motors runnin' and roll on into the Hokes Bluff city park. Antique cars\, tractors\, and motorcycles will put on a great show as usual with varieties of muscle and classic cars to take a trip down memory lane.
X-ALT-DESC;FMTTYPE=text/html:<span style="color: rgb(68\, 68\, 68)\; font-family: 'Open Sans'\, Helvetica\, Arial\, sans-serif\; font-size: 14px\; line-height: 24px\;">Get your motors runnin&rsquo\; and roll on into the Hokes Bluff city park. Antique cars\, tractors\, and motorcycles will put on a great show as usual with varieties of muscle and classic cars to take a trip down memory lane.</span>
LOCATION:Hokes Bluff City Park 5833 Gilliland Street Hokes Bluff\, AL 35903
UID:e.1432.384267
SEQUENCE:3
DTSTAMP:20260422T160521Z
URL:http://business.etowahchamber.org/events/details/hokes-bluff-lion-s-club-annual-car-show-09-27-2014-384267
END:VEVENT

END:VCALENDAR
