BEGIN:VCALENDAR
VERSION:2.0
PRODID:-//ChamberMaster//Event Calendar 2.0//EN
METHOD:PUBLISH
X-PUBLISHED-TTL:P3D
REFRESH-INTERVAL:P3D
CALSCALE:GREGORIAN
BEGIN:VEVENT
DTSTART:20190810T190000Z
DTEND:20190810T220000Z
X-MICROSOFT-CDO-ALLDAYEVENT:FALSE
SUMMARY:Hometown Action Presents: Back to School Bash!
DESCRIPTION:Hometown Action presents BACK TO SCHOOL BASH a completely free community celebration to kick off the new school year! And YOU are invited!!! We will have free food from the wonderful Beautiful Rainbow Cafe\, school supply giveaways from our friends at All of Us\, activities for the kids\, and our favorite organizations that support parents and children across Etowah County! Let's come together to show our support for the kids and make sure they know their town is rooting for them this year! We are also doing an OPEN CALL for local artists and performers!\n\n\n\nPlease share this event with any talented people you know and contact sav@hometownaction.org to sign up to perform at the Bash. Hometown Action is a diverse group of Alabamians coming together to make our towns happier\, healthier\, and more inclusive places to live. If you have an idea for improving your community or just want to learn more\, email us at or message us on Facebook!
X-ALT-DESC;FMTTYPE=text/html:<span style="font-size:16px\;"><span style="font-family:arial\;">Hometown Action presents BACK TO SCHOOL BASH&mdash\;a completely free community celebration to kick off the new school year! And YOU are invited!!! We will have free food from the wonderful Beautiful Rainbow Cafe\, school supply giveaways from our friends at All of Us\, activities for the kids\, and our favorite organizations that support parents and children across Etowah County! Let&rsquo\;s come together to show our support for the kids and make sure they know their town is rooting for them this year! We are also doing an OPEN CALL for local artists and performers!<br />\n<br />\nPlease share this event with any talented people you know and contact <a href="mailto:sav@hometownaction.org"><span style="color:#0000FF\;">sav@hometownaction.org</span></a> to sign up to perform at the Bash. Hometown Action is a diverse group of Alabamians coming together to make our towns happier\, healthier\, and more inclusive places to live. If you have an idea for improving your community or just want to learn more\, email us at or message us on <a href="https://www.facebook.com/events/1113984008812689/"><span style="color:#0000FF\;">Facebook</span></a>!</span></span>
LOCATION:5th Street Market
UID:e.1432.401330
SEQUENCE:3
DTSTAMP:20260422T053129Z
URL:http://business.etowahchamber.org/events/details/hometown-action-presents-back-to-school-bash-401330
END:VEVENT

END:VCALENDAR
