BEGIN:VCALENDAR
VERSION:2.0
PRODID:-//ChamberMaster//Event Calendar 2.0//EN
METHOD:PUBLISH
X-PUBLISHED-TTL:P3D
REFRESH-INTERVAL:P3D
CALSCALE:GREGORIAN
BEGIN:VEVENT
DTSTART:20140512T163000Z
DTEND:20140512T173000Z
X-MICROSOFT-CDO-ALLDAYEVENT:FALSE
SUMMARY:Hospice of Marshall County Luncheon - Affordable Healthcare Act
DESCRIPTION:Did you know 4 out of 5 people cannot accurately estimate how much they expect to pay for health care in retirement?  Join us for lunch and discussion on this timely topic.  The speakers are Mike Frost of MDA Professional Group\, P.C.\, and Audra Barbour of Nationwide Insurance\n\n            The event\, hosted by the Planned Giving Council of Hospice of Marshall County\, will be held on Monday\, May 12th from 11:30 to 1:30 p.m.\, at the Hospice of Marshall County Community Room located at 408 Martling Road in Albertville.  Free lunch for the first 50 people!  After the first 50 people\, the cost for the lunch is $5.  RSVP online http://pgchealthcareseminar.eventbrite.com or call Annah Grace Morgan at 256 891-7724.\n\n            Hospice of Marshall County is a regional\, non-profit\, United Way supported hospice.  For additional information on Hospice of Marshall County\, you may access our web site at www.hospicemc.org\, like us on Facebook at www.facebook.com/hospicemc and follow us on Twitter @HospiceMC.
X-ALT-DESC;FMTTYPE=text/html:<strong>Did you know 4 out of 5 people cannot accurately estimate how much they expect to pay for health care in retirement?&nbsp\; Join us for lunch and discussion on this timely topic.&nbsp\; The speakers are Mike Frost of MDA Professional Group\, P.C.\, and Audra Barbour of Nationwide Insurance</strong><br />\n<strong>&nbsp\;&nbsp\;&nbsp\;&nbsp\;&nbsp\;&nbsp\;&nbsp\;&nbsp\;&nbsp\;&nbsp\;&nbsp\; The event\, hosted by the Planned Giving Council of Hospice of Marshall County\, will be held on Monday\, May 12th from 11:30 to 1:30 p.m.\, at the Hospice of Marshall County Community Room located at 408 Martling Road in Albertville.&nbsp\; Free lunch for the first 50 people!&nbsp\; After the first 50 people\, the cost for the lunch is $5.&nbsp\; RSVP online <a href="http://pgchealthcareseminar.eventbrite.com/">http://pgchealthcareseminar.eventbrite.com</a> or call Annah Grace Morgan at 256&#8209\;891-7724.</strong><br />\n<strong>&nbsp\;&nbsp\;&nbsp\;&nbsp\;&nbsp\;&nbsp\;&nbsp\;&nbsp\;&nbsp\;&nbsp\;&nbsp\; Hospice of Marshall County is a regional\, non-profit\, United Way supported hospice.&nbsp\; For additional information on Hospice of Marshall County\, you may access our web site at www.hospicemc.org\, like us on Facebook at www.facebook.com/hospicemc and follow us on Twitter @HospiceMC.&nbsp\;</strong>
LOCATION:Marshall County Community Room located at 408 Martling Road in Albertville
UID:e.1432.384460
SEQUENCE:3
DTSTAMP:20260422T195412Z
URL:http://business.etowahchamber.org/events/details/hospice-of-marshall-county-luncheon-affordable-healthcare-act-05-12-2014-384460
END:VEVENT

END:VCALENDAR
