BEGIN:VCALENDAR
VERSION:2.0
PRODID:-//ChamberMaster//Event Calendar 2.0//EN
METHOD:PUBLISH
X-PUBLISHED-TTL:P3D
REFRESH-INTERVAL:P3D
CALSCALE:GREGORIAN
BEGIN:VEVENT
DTSTART:20141025T140000Z
DTEND:20141025T160000Z
X-MICROSOFT-CDO-ALLDAYEVENT:FALSE
SUMMARY:Howloweenie Pet Parade and Costume Contest
DESCRIPTION:Annual Howloweenie Pet Parade and Costume Contest: HSPRAC and Downtown Gadsden\, Inc partnering to host this annual event this Saturday at 4th and Broad. Come in costume and bring Fido down for a morning of tricks and treats. $5 registration will help buy toys for the shelter dogs while they wait for their new families to find them. Festivities begin at 10am and will include treats for your pet\, a parade and costume contest. Door prizes and awareness magnets will be up for grabs!
X-ALT-DESC;FMTTYPE=text/html:<span style="font-size:12.0pt\;font-family:&quot\;Verdana&quot\;\,&quot\;sans-serif&quot\;\;\nmso-fareast-font-family:&quot\;Times New Roman&quot\;\;mso-bidi-font-family:Helvetica\;\ncolor:black\;mso-ansi-language:EN-US\;mso-fareast-language:EN-US\;mso-bidi-language:\nAR-SA">Annual Howloweenie Pet Parade and Costume Contest: HSPRAC and Downtown Gadsden\, Inc partnering to host this annual event this Saturday at 4th and Broad. Come in costume and bring Fido down for a morning of tricks and treats. $5 registration will help buy toys for the shelter dogs while they wait for their new families to find them. Festivities begin at 10am and will include treats for your pet\, a parade and costume contest. Door prizes and awareness magnets will be up for grabs!</span>
LOCATION:4th and Broad St. Downtown Gadsden
UID:e.1432.385035
SEQUENCE:3
DTSTAMP:20260422T132418Z
URL:http://business.etowahchamber.org/events/details/howloweenie-pet-parade-and-costume-contest-10-25-2014-385035
END:VEVENT

END:VCALENDAR
