BEGIN:VCALENDAR
VERSION:2.0
PRODID:-//ChamberMaster//Event Calendar 2.0//EN
METHOD:PUBLISH
X-PUBLISHED-TTL:P3D
REFRESH-INTERVAL:P3D
CALSCALE:GREGORIAN
BEGIN:VEVENT
DTSTART:20190919T223000Z
DTEND:20190920T003000Z
X-MICROSOFT-CDO-ALLDAYEVENT:FALSE
SUMMARY:hype!: Wine Tasting at The Stone Market
DESCRIPTION:"Wine Tasting at The Stone Market"\n\nCome out for an evening of networking\, wine tasting\, and fun with the members of hype!. There is no fee to attend the wine tasting(for ages of legal consumption). If you are age 18-35\, join us for a fun night out at The Stone Market!\n\n\n\nAbout hype!:\n\nhype! is a young professionals' networking group in Etowah County. The program is partnership program between The Chamber and the United Way of Etowah County. The group meets monthly and will focus on growing a community of young professionals before entering or in the early years in the workforce.\n\nIf you are between the ages of 18 and 35\, hype! is the place for you to get connected.
X-ALT-DESC;FMTTYPE=text/html:<span style="font-size:16px\;"><span style="font-family:arial\;"><u><strong><span style="font-size:18px\;">&quot\;Wine Tasting at The Stone Market&quot\;</span></strong></u></span></span><br />\n<span style="font-size:16px\;"><span style="font-family:arial\;">Come out for an evening of networking\, wine tasting\, and fun with the members of hype!. There is no fee to attend the wine tasting(for ages of legal consumption). If you are age 18-35\, join us for a fun night out at The Stone Market!<br />\n<br />\n<u><strong>About hype!:</strong></u><br />\n<em>hype! is a young professionals&#39\; networking group in Etowah County. The program is partnership program between The Chamber and the United Way of Etowah County. The group meets monthly and will focus on growing a community of young professionals before entering or in the early years in the workforce.</em><br />\n<strong><span style="background-color:#FFFF00\;">If you are between the ages of 18 and 35\, hype! is the place for you to get connected.</span></strong></span></span>
LOCATION:The Stone Market
UID:e.1432.401384
SEQUENCE:3
DTSTAMP:20260422T082907Z
URL:http://business.etowahchamber.org/events/details/hype-wine-tasting-at-the-stone-market-401384
END:VEVENT

END:VCALENDAR
