BEGIN:VCALENDAR
VERSION:2.0
PRODID:-//ChamberMaster//Event Calendar 2.0//EN
METHOD:PUBLISH
X-PUBLISHED-TTL:P3D
REFRESH-INTERVAL:P3D
CALSCALE:GREGORIAN
BEGIN:VEVENT
DTSTART:20140611T170000Z
DTEND:20140611T190000Z
X-MICROSOFT-CDO-ALLDAYEVENT:FALSE
SUMMARY:Informational Seminar About Securities Fraud
DESCRIPTION:Presented by Gadsden Rotary\, Gadsden Regional Medical Center Senior Circle\, The Chamber Gadsden/Etowah County\, Council on Aging for Etowah County\, the Etowah County Sheriff's Office and the Gadsden Public Library in conjunction with the Alabama Securities Exchange.\n\nJoin us for this luncheon as we listen to Joe Borg of the Alabama Securities Exchange as he covers the following topics:\n\n	Steps to take to protect yourself from investment and financial fraud.\n	Basic investment principles like diversification\, dollar cost-averaging.\n	How to research investment options and various investment instruments.\n	Actions you must take to make informed investment decisions.\n	Opportunity for question/answer from participants.\n\n\n\n\n\nPlease make your reservation to attend this FREE luncheon by June 4 by visiting www.gadsdenregional.com and clicking on the Senior Circle icon or\, call 256-494-4894.
X-ALT-DESC;FMTTYPE=text/html:Presented by Gadsden Rotary\, Gadsden Regional Medical Center Senior Circle\, The Chamber Gadsden/Etowah County\, Council on Aging for Etowah County\, the Etowah County Sheriff&rsquo\;s Office and the Gadsden Public Library in conjunction with the Alabama Securities Exchange.<br />\nJoin us for this luncheon as we listen to Joe Borg of the Alabama Securities Exchange as he covers the following topics:\n<ul>\n	<li>Steps to take to protect yourself from investment and financial fraud.</li>\n	<li>Basic investment principles like diversification\, dollar cost-averaging.</li>\n	<li>How to research investment options and various investment instruments.</li>\n	<li>Actions you must take to make informed investment decisions.</li>\n	<li>Opportunity for question/answer from participants.</li>\n</ul>\n<br />\n<br />\nPlease make your reservation to attend this FREE luncheon by June 4 by visiting www.gadsdenregional.com and clicking on the Senior Circle icon or\, call 256-494-4894.
LOCATION:Senior Activity Center\, Downtown Gadsden
UID:e.1432.384469
SEQUENCE:3
DTSTAMP:20260422T182600Z
URL:http://business.etowahchamber.org/events/details/informational-seminar-about-securities-fraud-06-11-2014-384469
END:VEVENT

END:VCALENDAR
