BEGIN:VCALENDAR
VERSION:2.0
PRODID:-//ChamberMaster//Event Calendar 2.0//EN
METHOD:PUBLISH
X-PUBLISHED-TTL:P3D
REFRESH-INTERVAL:P3D
CALSCALE:GREGORIAN
BEGIN:VEVENT
DTSTART:20200115T200000Z
DTEND:20200115T210000Z
X-MICROSOFT-CDO-ALLDAYEVENT:FALSE
SUMMARY:Innovation\, Incubation and Entrepreneurship Meeting
DESCRIPTION:Entrepreneurship\, incubation and innovation\n\nAgenda\n\nJanuary 15\, 2020\n\nWelcome and introductions\n\n \n\nstart-up weekend update\n\n   February 7-9\, 2020\n\n\n\nyoung entreprEneur fair update\n\n \n\nsMALL BUSINESS START-UP PANEL (fRANCHISE 101)\n\n \n\nSMALL BUSINESS BOOT CAMP PLANNING\n\n\n\ncoworking space update\n\n    Task team visits\, recommendation made to Executive Committee\n\n\n\nriverside oz UPDATE\n\n    \n\nother discussion\n\ndismissal
X-ALT-DESC;FMTTYPE=text/html:<strong><span style="text-transform:uppercase\;"><span style="color:windowtext\;"><span style="font-family:franklin gothic book\,sans-serif\;">Entrepreneurship\, incubation and innovation</span></span></span></strong><br />\n<span style="text-transform:uppercase\;"><span style="color:windowtext\;"><span style="font-family:franklin gothic book\,sans-serif\;">Agenda</span></span></span><br />\n<span style="text-transform:uppercase\;"><span style="color:windowtext\;"><span style="font-family:franklin gothic book\,sans-serif\;">January 15\, 2020</span></span></span><br />\n<strong><span style="text-transform:uppercase\;"><span style="color:windowtext\;"><span style="font-family:franklin gothic book\,sans-serif\;">Welcome and introductions</span></span></span></strong><br />\n&nbsp\;<br />\n<strong><span style="text-transform:uppercase\;"><span style="font-family:franklin gothic book\,sans-serif\;">start-up weekend update</span></span></strong><br />\n<span style="font-family:arial\,sans-serif\;">&nbsp\; &nbsp\;February 7-9\, 2020</span><br />\n<br />\n<strong><span style="text-transform:uppercase\;"><span style="font-family:franklin gothic book\,sans-serif\;">young entreprEneur fair update</span></span></strong><br />\n&nbsp\;<br />\n<strong><span style="text-transform:uppercase\;"><span style="font-family:franklin gothic book\,sans-serif\;">sMALL BUSINESS START-UP PANEL (fRANCHISE 101)</span></span></strong><br />\n&nbsp\;<br />\n<strong><span style="text-transform:uppercase\;"><span style="font-family:franklin gothic book\,sans-serif\;">SMALL BUSINESS BOOT CAMP PLANNING</span></span></strong><br />\n<br />\n<strong><span style="text-transform:uppercase\;"><span style="font-family:franklin gothic book\,sans-serif\;">coworking space update</span></span></strong><br />\n<span style="font-family:arial\,sans-serif\;">&nbsp\;&nbsp\;&nbsp\;&nbsp\;Task team visits\, recommendation made to Executive Committee</span><br />\n<br />\n<strong><span style="text-transform:uppercase\;"><span style="font-family:franklin gothic book\,sans-serif\;">riverside oz UPDATE</span></span></strong><br />\n&nbsp\;&nbsp\;&nbsp\;&nbsp\;<br />\n<span style="text-transform:uppercase\;"><span style="font-family:franklin gothic book\,sans-serif\;">other discussion</span></span><br />\n<span style="text-transform:uppercase\;"><span style="font-family:franklin gothic book\,sans-serif\;">dismissal</span></span><br />\n<br />\n&nbsp\;
LOCATION:Chamber Board Room
UID:e.1432.402618
SEQUENCE:3
DTSTAMP:20260420T025946Z
URL:http://business.etowahchamber.org/events/details/innovation-incubation-and-entrepreneurship-meeting-402618
END:VEVENT

END:VCALENDAR
