BEGIN:VCALENDAR
VERSION:2.0
PRODID:-//ChamberMaster//Event Calendar 2.0//EN
METHOD:PUBLISH
X-PUBLISHED-TTL:P3D
REFRESH-INTERVAL:P3D
CALSCALE:GREGORIAN
BEGIN:VEVENT
DTSTART:20130412T210000Z
DTEND:20130413T020000Z
X-MICROSOFT-CDO-ALLDAYEVENT:FALSE
SUMMARY:International Festival
DESCRIPTION:Gadsden State's Annual International Festival "The Places You'll Go!" will take place on April 12th at Convention Hall in Gadsden.  The door will open at 4:00 p.m.  International students will have country displays\, provide entertainment\, along with food and vendors.\n\nTickets are on sale now!\n\n \n\nShopping and Displays start at 4:00 p.m.\n\nWine tasting begins at 5:00 p.m. (Must have ID)\n\nFood vendors begin serving at 6:00 p.m.
X-ALT-DESC;FMTTYPE=text/html:<strong><span style="font-size: 14px\;"><span style="font-family: courier new\;">Gadsden State&#39\;s Annual International Festival &quot\;The Places You&#39\;ll Go!&quot\; will take place on April 12th at Convention Hall in Gadsden.&nbsp\; The door will open at 4:00 p.m.&nbsp\; International students will have country displays\, provide entertainment\, along with food and vendors.<br />\nTickets are&nbsp\;on sale now!</span></span></strong><br />\n&nbsp\;<br />\n<span style="font-family: calibri\;"><strong><span style="font-size: 14pt\;"><span style="color: rgb(112\, 48\, 160)\;">Shopping and Displays start at 4:00 p.m.</span></span></strong></span><br />\n<span style="font-family: calibri\;"><strong><span style="font-size: 14pt\;"><span style="color: rgb(112\, 48\, 160)\;">Wine tasting begins at 5:00 p.m. (Must have ID)</span></span></strong></span><br />\n<span style="font-family: calibri\;"><strong><span style="font-size: 14pt\;"><span style="color: rgb(112\, 48\, 160)\;">Food vendors begin serving at 6:00 p.m.</span></span></strong></span><br />\n<br />\n&nbsp\; 
LOCATION:Convention Hall in Gadsden
UID:e.1432.383098
SEQUENCE:3
DTSTAMP:20260423T082848Z
URL:http://business.etowahchamber.org/events/details/international-festival-04-12-2013-383098
END:VEVENT

END:VCALENDAR
