BEGIN:VCALENDAR
VERSION:2.0
PRODID:-//ChamberMaster//Event Calendar 2.0//EN
METHOD:PUBLISH
X-PUBLISHED-TTL:P3D
REFRESH-INTERVAL:P3D
CALSCALE:GREGORIAN
BEGIN:VEVENT
DTSTART;VALUE=DATE:20130809
DTEND;VALUE=DATE:20130812
TRANSP:TRANSPARENT
X-MICROSOFT-CDO-ALLDAYEVENT:TRUE
SUMMARY:It's Yogurtime Back to School Supply Drive
DESCRIPTION:It's Yogurtime is partnering with the Family Success Center\, an United Way Agency\, to help in their\n\nCRAM THE VAN school supply drive.  All donated supplies will be\n\ndistributed to local schools to provide children in need with the tools to start school. \n\nThe school supply drive will be August 9th\, 10th and 11th.\n\n \n\nIf you bring in the SPECIFIC school supplies you will receive 50% off a fresh made adult size yogurt purchase\, cannot be used with other offers or discount. Not valid on other items in the store.  See event photo for supplies you can bring in for the discount.
X-ALT-DESC;FMTTYPE=text/html:<span style="font-size:12px\;"><span style="font-family:times new roman\;">It&rsquo\;s Yogurtime is partnering with the Family Success Center\, an United Way Agency\, to help in their<br />\n<span style="color:#ff6600\;">CRAM THE VAN</span> school supply drive.&nbsp\; All donated supplies will be<br />\ndistributed to local schools to provide children in need with the tools to start school.&nbsp\;<br />\nThe school supply drive will be August 9<sup>th</sup>\, 10<sup>th</sup> and 11<sup>th</sup>.<br />\n&nbsp\;<br />\nIf you bring in the SPECIFIC school supplies you will receive 50% off a fresh made <strong>adult</strong> size yogurt purchase\, cannot be used with other offers or discount. Not valid on other items in the store. &nbsp\;See event photo for supplies you can bring in for the discount.</span></span><br />\n
LOCATION:It's Yogurtime Gadsden
UID:e.1432.383776
SEQUENCE:3
DTSTAMP:20260423T075236Z
URL:http://business.etowahchamber.org/events/details/it-s-yogurtime-back-to-school-supply-drive-08-09-2013-383776
END:VEVENT

END:VCALENDAR
