BEGIN:VCALENDAR
VERSION:2.0
PRODID:-//ChamberMaster//Event Calendar 2.0//EN
METHOD:PUBLISH
X-PUBLISHED-TTL:P3D
REFRESH-INTERVAL:P3D
CALSCALE:GREGORIAN
BEGIN:VEVENT
DTSTART:20140516T230000Z
DTEND:20140517T010000Z
X-MICROSOFT-CDO-ALLDAYEVENT:FALSE
SUMMARY:Junior Achievement Bowling Classic
DESCRIPTION:The Junior Achievement Bowling Classic is an event in which local companies and organizations get together and bowl to help support Junior Achievement programs in area schools in Etowah County.  Excellence in bowling is not needed\, enthusiasm is!  Teams will bowl on Friday\, May 16\, 2014 at 6 p.m.  Anyone can bowl.  Teams are comprised of 5 Bowlers (co-workers\, family\, friends\, church members\, etc.) that have a goal to raise at least $100 each for a total of $500 per team\, which provides one classroom with JA Programs.  Each Bowler pays a $15 non-refundable registration fee to cover bowling expenses\, including lane and shoe rental\, and an event t-shirt.  Each Bowler will collect money either in person or they can use Junior Achievement's online fundraising website.
X-ALT-DESC;FMTTYPE=text/html:<span style="font-size:12.0pt\;">The Junior Achievement Bowling Classic is an event in which local companies and organizations get together and bowl to help support Junior Achievement programs in area schools in Etowah County.&nbsp\; Excellence in bowling is <u>not</u> needed\, <strong>enthusiasm</strong> is!&nbsp\; Teams will bowl on Friday\, May 16\, 2014 at 6 p.m.&nbsp\; Anyone can bowl.&nbsp\; Teams are comprised of 5 Bowlers (co-workers\, family\, friends\, church members\, etc.) that have a goal to raise at least $100 each for a <strong>total of $500 per team\, which provides one classroom with JA Programs.&nbsp\; </strong>Each Bowler pays a $15 non-refundable registration fee to cover bowling expenses\, including lane and shoe rental\, and an event t-shirt.&nbsp\; Each Bowler will collect money either in person or they can use Junior Achievement&rsquo\;s online fundraising website.&nbsp\;</span>
LOCATION:Paradise Lanes 729 Sutton Bridge Rd\, Rainbow City\, AL 35906 (256) 413-0300
UID:e.1432.384180
SEQUENCE:3
DTSTAMP:20260422T194944Z
URL:http://business.etowahchamber.org/events/details/junior-achievement-bowling-classic-05-16-2014-384180
END:VEVENT

END:VCALENDAR
