BEGIN:VCALENDAR
VERSION:2.0
PRODID:-//ChamberMaster//Event Calendar 2.0//EN
METHOD:PUBLISH
X-PUBLISHED-TTL:P3D
REFRESH-INTERVAL:P3D
CALSCALE:GREGORIAN
BEGIN:VEVENT
DTSTART:20181113T134500Z
DTEND:20181113T230000Z
X-MICROSOFT-CDO-ALLDAYEVENT:FALSE
SUMMARY:Leadership Etowah - Arts and Culture Day
DESCRIPTION:Leadership Etowah 2018\n\nArts and Culture\n\n\n\nObjectives: After participating in Arts and Culture Day\, participants should exhibit increased awareness of arts organizations in our community\, engage in support for the arts through word of mouth\, increase attendance at arts events and fundraising support wtihin their business\, be able to identify examples of leadership within the arts community\, gain a greater understanding of how a strong arts community increases the quality of life for Gadsden and Etowah County\, and possibly chose to increase their leadership within the community by volunteering with an arts organization.\n\n\n\n7:45 am - Meet at Wallace Hall parking lot to board GSCC Vans (we will depart at 7:45)\n\n8:00 am - Breafkast and Welcome at Gadsden Museum of Art - Ray Wetzel and Mario Gallardo\n\n8:30 am - Gadsden Museum of Art Tour - Ray Wetzel\n\n9:30 am - Technology/Bathroom Break\n\n9:45 am - Cultural Arts Center and Downtown Dance Conservatory - Bobby Welch and Linze McRae\n\n10:45 am - Etowah Youth Orchestra - Mike Gagliardo\n\n11:30 am - Walnut Gallery - Mario Gallardo\n\n12 pm - Lunch at Beautiful Rainbow - presentation by Chip Rowan & Craig Scott\n\n1:30 pm - Ritz Theatre - Mike Beecham\n\n2:30 pm - Grace Heritage Foundation - Chari Bostick \n\n3:15 pm - Wallace Hall/bathroom and technology break\n\n3:30 pm - Community Partnership - Molly Page\, Cody Carlton\, Theatre Instructors\n\n4:00 pm - Hands On Art Project\n\n5:00 pm - Survey and Dismissal
X-ALT-DESC;FMTTYPE=text/html:Leadership Etowah 2018<br />\nArts and Culture<br />\n<br />\nObjectives: After participating in Arts and Culture Day\, participants should exhibit increased awareness of arts organizations in our community\, engage in support for the arts through word of mouth\, increase attendance at arts events and fundraising support wtihin their business\, be able to identify examples of leadership within the arts community\, gain a greater understanding of how a strong arts community increases the quality of life for Gadsden and Etowah County\, and possibly chose to increase their leadership within the community by volunteering with an arts organization.<br />\n<br />\n7:45 am - Meet at Wallace Hall parking lot to board GSCC Vans (we will depart at 7:45)<br />\n8:00 am - Breafkast and Welcome at Gadsden Museum of Art - Ray Wetzel and Mario Gallardo<br />\n8:30 am - Gadsden Museum of Art Tour - Ray Wetzel<br />\n9:30 am - Technology/Bathroom Break<br />\n9:45 am - Cultural Arts Center and Downtown Dance Conservatory - Bobby Welch and Linze McRae<br />\n10:45 am - Etowah Youth Orchestra - Mike Gagliardo<br />\n11:30 am - Walnut Gallery - Mario Gallardo<br />\n12 pm - Lunch at Beautiful Rainbow - presentation by Chip Rowan &amp\; Craig Scott<br />\n1:30 pm - Ritz Theatre - Mike Beecham<br />\n2:30 pm - Grace Heritage Foundation - Chari Bostick&nbsp\;<br />\n3:15 pm - Wallace Hall/bathroom and technology break<br />\n3:30 pm - Community Partnership - Molly Page\, Cody Carlton\, Theatre Instructors<br />\n4:00 pm - Hands On Art Project<br />\n5:00 pm - Survey and Dismissal&nbsp\;
LOCATION:
UID:e.1432.398333
SEQUENCE:3
DTSTAMP:20260422T170831Z
URL:http://business.etowahchamber.org/events/details/leadership-etowah-arts-and-culture-day-398333
END:VEVENT

END:VCALENDAR
