BEGIN:VCALENDAR
VERSION:2.0
PRODID:-//ChamberMaster//Event Calendar 2.0//EN
METHOD:PUBLISH
X-PUBLISHED-TTL:P3D
REFRESH-INTERVAL:P3D
CALSCALE:GREGORIAN
BEGIN:VEVENT
DTSTART:20190618T124500Z
DTEND:20190618T220000Z
X-MICROSOFT-CDO-ALLDAYEVENT:FALSE
SUMMARY:Leadership Etowah - Healthcare Day
DESCRIPTION:Leadership Etowah Healthcare Day\n\nJune 18\, 2019\n\n7:45 am - 5 pm\n\n\n\nRecommended attire: business casual\, comfortable shoes as there will be lots of walking\n\n\n\n7:45 am - Gather for coffee at the Chamber\, welcome and overview by Morgan Lavender\, class of 2018\n\n7:55 am - Depart for Riverview\n\n\n\nWe will be touring Riverview\, Gadsden Regional\, Encompass Health\, Quality of Life and Fresenius Kidney Care\n\n\n\n4:15 pm Return to Chamber for discussion and survey
X-ALT-DESC;FMTTYPE=text/html:Leadership Etowah Healthcare Day<br />\nJune 18\, 2019<br />\n7:45 am - 5 pm<br />\n<br />\nRecommended attire: business casual\, comfortable shoes as there will be lots of walking<br />\n<br />\n7:45 am - Gather for coffee at the Chamber\, welcome and overview by Morgan Lavender\, class of 2018<br />\n7:55 am - Depart for Riverview<br />\n<br />\nWe will be touring Riverview\, Gadsden Regional\, Encompass Health\, Quality of Life and Fresenius Kidney Care<br />\n<br />\n4:15 pm Return to Chamber for discussion and survey
LOCATION:
UID:e.1432.401164
SEQUENCE:3
DTSTAMP:20260422T070538Z
URL:http://business.etowahchamber.org/events/details/leadership-etowah-healthcare-day-401164
END:VEVENT

END:VCALENDAR
