BEGIN:VCALENDAR
VERSION:2.0
PRODID:-//ChamberMaster//Event Calendar 2.0//EN
METHOD:PUBLISH
X-PUBLISHED-TTL:P3D
REFRESH-INTERVAL:P3D
CALSCALE:GREGORIAN
BEGIN:VEVENT
DTSTART:20200616T124500Z
DTEND:20200616T220000Z
X-MICROSOFT-CDO-ALLDAYEVENT:FALSE
SUMMARY:Leadership Etowah - Healthcare & Government Day
DESCRIPTION:Friends\,\n\n\n\nWe are going to try our first in-person session since March!\n\n\n\nDoors will open at The Chamber at 7:45 am. Breakfast and lunch will be individually packaged and we will provide a server for coffee. \n\n\n\nWe will not be touring any healthcare facilities\, however we will make a visit to the Judicial Building and Etowah County Courthouse. We will also be hosted for lunch at Gadsden Museum of Art to allow for additional social distancing with more committee members.\n\n\n\nWhile we typically encourage committee members to join us for the day\, we are asking that they only make a brief visit during breakfast or lunch to provide as much room as possible for our students\, presenters and presenting committee members.\n\n\n\nPlease let me know if you have any concerns about attending. The room will be sanitized and hand sanitizer will be provided. Feel free to wear a mask. Please do not attend if you have any symptoms of COVID-19 or have had a direct interaction with someone that is COVID-19 positive in the last two weeks.
X-ALT-DESC;FMTTYPE=text/html:Friends\,<br />\n<br />\nWe are going to try our first in-person session since March!<br />\n<br />\nDoors will open at The Chamber at 7:45 am. Breakfast and lunch will be individually packaged and we will provide a server for coffee.&nbsp\;<br />\n<br />\nWe will not be touring any healthcare facilities\, however we will make a visit to the Judicial Building and Etowah County Courthouse. We will also be hosted for lunch at Gadsden Museum of Art to allow for additional social distancing with more committee members.<br />\n<br />\nWhile we typically encourage committee members to join us for the day\, we are asking that they only make a brief visit during breakfast or lunch to provide as much room as possible for our students\, presenters and presenting committee members.<br />\n<br />\nPlease let me know if you have any concerns about attending. The room will be sanitized and hand sanitizer will be provided. Feel free to wear a mask. Please do not attend if you have any symptoms of COVID-19 or have had a direct interaction with someone that is COVID-19 positive in the last two weeks.&nbsp\;<br />\n<br />\n&nbsp\;
LOCATION:The Chamber Board Room
UID:e.1432.402939
SEQUENCE:3
DTSTAMP:20260419T190151Z
URL:http://business.etowahchamber.org/events/details/leadership-etowah-healthcare-government-day-402939
END:VEVENT

END:VCALENDAR
