BEGIN:VCALENDAR
VERSION:2.0
PRODID:-//ChamberMaster//Event Calendar 2.0//EN
METHOD:PUBLISH
X-PUBLISHED-TTL:P3D
REFRESH-INTERVAL:P3D
CALSCALE:GREGORIAN
BEGIN:VEVENT
DTSTART:20200121T140000Z
DTEND:20200121T230000Z
X-MICROSOFT-CDO-ALLDAYEVENT:FALSE
SUMMARY:Leadership Etowah - Orientation Day
DESCRIPTION:Leadership Etowah 2020\n\nClass 1: Orientation to Leadership\n\nJanuary 21\, 2020\n\n\n\n8:00 a.m.              ARRIVE at Gadsden State Community College Inzer Hall Teaching & Learning Center\n\n                              Breakfast provided by Jack's - come hungry!\n\n8:15a.m.                Welcome   Davis Verner Leadership Chair\n\n8:20a.m.               History\, Attendance & Challenge   Heather New\n\n8:40 a.m.              Leadership Icebreaker   Who Am I  Kelley Pearce\n\n9:15 a.m.              Bathroom/Technology Break/Snack\n\n9:30 a.m.              Teamwork   Kelley Pearce\, Derrick Griffey\, Farrah Hayes\n\n                                Animal Farm\n\n                                Backward Clumps\n\n                                Word Scramble\n\n11:50 p.m.           Lunch \n\n12:30 p.m.           Bathroom/Technology Break\n\n12:45 p.m.            The Sailor Activity   Pam Clough\n\n                              Everyday Leadership & Lollipop Moment Talk - Jackie Edmondson\n\n1:45 p.m.              Bathroom/Technology Break/Snack\n\n2:00 p.m.              Myers-Briggs   Kelley Pearce           \n\n3:00 p.m.              Bathroom/Technology Break/Snack\n\n3:15 p.m.              Team Building - Surprise Adventure\n\n5:00 p.m.              Survey & Dismissal\n\n\n\nSponsored by:\n\nGadsden State Community College\n\nAlabama Power\n\nJack's
X-ALT-DESC;FMTTYPE=text/html:<strong>Leadership Etowah 2020<br />\nClass 1: Orientation to Leadership<br />\nJanuary 21\, 2020</strong><br />\n<br />\n<span style="font-size:10.0pt\;">8:00 a.m.&nbsp\;&nbsp\;&nbsp\;&nbsp\;&nbsp\;&nbsp\;&nbsp\;&nbsp\;&nbsp\;&nbsp\;&nbsp\;&nbsp\;&nbsp\; ARRIVE at Gadsden State Community College Inzer Hall Teaching &amp\; Learning Center<br />\n&nbsp\;&nbsp\;&nbsp\;&nbsp\;&nbsp\;&nbsp\;&nbsp\;&nbsp\;&nbsp\;&nbsp\;&nbsp\;&nbsp\;&nbsp\;&nbsp\;&nbsp\;&nbsp\;&nbsp\;&nbsp\;&nbsp\;&nbsp\;&nbsp\;&nbsp\;&nbsp\;&nbsp\;&nbsp\;&nbsp\;&nbsp\;&nbsp\;&nbsp\; Breakfast provided by Jack&rsquo\;s - come hungry!</span><br />\n<span style="font-size:10.0pt\;">8:15a.m. &nbsp\;&nbsp\;&nbsp\;&nbsp\;&nbsp\;&nbsp\;&nbsp\;&nbsp\;&nbsp\;&nbsp\;&nbsp\;&nbsp\;&nbsp\;&nbsp\; Welcome &ndash\; Davis Verner Leadership Chair</span><br />\n<span style="font-size:10.0pt\;">8:20a.m. &nbsp\;&nbsp\;&nbsp\;&nbsp\;&nbsp\;&nbsp\;&nbsp\;&nbsp\;&nbsp\;&nbsp\;&nbsp\;&nbsp\;&nbsp\; History\, Attendance &amp\; Challenge &ndash\; Heather New</span><br />\n<span style="font-size:10.0pt\;">8:40 a.m.&nbsp\;&nbsp\;&nbsp\;&nbsp\;&nbsp\;&nbsp\;&nbsp\;&nbsp\;&nbsp\;&nbsp\;&nbsp\;&nbsp\;&nbsp\; Leadership Icebreaker &ndash\; Who Am I&ndash\; Kelley Pearce</span><br />\n<span style="font-size:10.0pt\;">9:15 a.m. &nbsp\;&nbsp\;&nbsp\;&nbsp\;&nbsp\;&nbsp\;&nbsp\;&nbsp\;&nbsp\;&nbsp\;&nbsp\;&nbsp\; Bathroom/Technology Break/Snack</span><br />\n<span style="font-size:10.0pt\;">9:30 a.m.&nbsp\;&nbsp\;&nbsp\;&nbsp\;&nbsp\;&nbsp\;&nbsp\;&nbsp\;&nbsp\;&nbsp\;&nbsp\;&nbsp\;&nbsp\; Teamwork &ndash\; Kelley Pearce\, Derrick Griffey\, Farrah Hayes</span><br />\n&nbsp\;&nbsp\;&nbsp\;&nbsp\;&nbsp\;&nbsp\;&nbsp\;&nbsp\;&nbsp\;&nbsp\;&nbsp\;&nbsp\;&nbsp\;&nbsp\;&nbsp\;&nbsp\;&nbsp\;&nbsp\;&nbsp\;&nbsp\;&nbsp\;&nbsp\;&nbsp\;&nbsp\;&nbsp\;&nbsp\;&nbsp\;&nbsp\;&nbsp\;&nbsp\;&nbsp\;&nbsp\;<span style="font-size:10.0pt\;">Animal Farm</span><br />\n&nbsp\;&nbsp\;&nbsp\;&nbsp\;&nbsp\;&nbsp\;&nbsp\;&nbsp\;&nbsp\;&nbsp\;&nbsp\;&nbsp\;&nbsp\;&nbsp\;&nbsp\;&nbsp\;&nbsp\;&nbsp\;&nbsp\;&nbsp\;&nbsp\;&nbsp\;&nbsp\;&nbsp\;&nbsp\;&nbsp\;&nbsp\;&nbsp\;&nbsp\;&nbsp\;&nbsp\;&nbsp\;<span style="font-size:10.0pt\;">Backward Clumps</span><br />\n&nbsp\;&nbsp\;&nbsp\;&nbsp\;&nbsp\;&nbsp\;&nbsp\;&nbsp\;&nbsp\;&nbsp\;&nbsp\;&nbsp\;&nbsp\;&nbsp\;&nbsp\;&nbsp\;&nbsp\;&nbsp\;&nbsp\;&nbsp\;&nbsp\;&nbsp\;&nbsp\;&nbsp\;&nbsp\;&nbsp\;&nbsp\;&nbsp\;&nbsp\;&nbsp\;&nbsp\;&nbsp\;<span style="font-size:10.0pt\;">Word Scramble</span><br />\n<span style="font-size:10.0pt\;">11:50 p.m.&nbsp\;&nbsp\;&nbsp\;&nbsp\;&nbsp\;&nbsp\;&nbsp\;&nbsp\;&nbsp\;&nbsp\; Lunch </span><br />\n<span style="font-size:10.0pt\;">12:30 p.m.&nbsp\;&nbsp\;&nbsp\;&nbsp\;&nbsp\;&nbsp\;&nbsp\;&nbsp\;&nbsp\;&nbsp\; Bathroom/Technology Break</span><br />\n<span style="font-size:10.0pt\;">12:45 p.m. &nbsp\;&nbsp\;&nbsp\;&nbsp\;&nbsp\;&nbsp\;&nbsp\;&nbsp\;&nbsp\;&nbsp\; The Sailor Activity &ndash\; Pam Clough<br />\n&nbsp\;&nbsp\;&nbsp\;&nbsp\;&nbsp\;&nbsp\;&nbsp\;&nbsp\;&nbsp\;&nbsp\;&nbsp\;&nbsp\;&nbsp\;&nbsp\;&nbsp\;&nbsp\;&nbsp\;&nbsp\;&nbsp\;&nbsp\;&nbsp\;&nbsp\;&nbsp\;&nbsp\;&nbsp\;&nbsp\;&nbsp\;&nbsp\;&nbsp\; Everyday Leadership &amp\; Lollipop Moment Talk - Jackie Edmondson</span><br />\n<span style="font-size:10.0pt\;">1:45 p.m.&nbsp\;&nbsp\;&nbsp\;&nbsp\;&nbsp\;&nbsp\;&nbsp\;&nbsp\;&nbsp\;&nbsp\;&nbsp\;&nbsp\;&nbsp\; Bathroom/Technology Break/Snack</span><br />\n<span style="font-size:10.0pt\;">2:00 p.m. &nbsp\;&nbsp\;&nbsp\;&nbsp\;&nbsp\;&nbsp\;&nbsp\;&nbsp\;&nbsp\;&nbsp\;&nbsp\;&nbsp\; Myers-Briggs &ndash\; Kelley Pearce&nbsp\;&nbsp\;&nbsp\;&nbsp\;&nbsp\;&nbsp\;&nbsp\;&nbsp\;&nbsp\;&nbsp\; </span><br />\n<span style="font-size:10.0pt\;">3:00 p.m.&nbsp\;&nbsp\;&nbsp\;&nbsp\;&nbsp\;&nbsp\;&nbsp\;&nbsp\;&nbsp\;&nbsp\;&nbsp\;&nbsp\;&nbsp\; Bathroom/Technology Break/Snack</span><br />\n<span style="font-size:10.0pt\;">3:15 p.m. &nbsp\;&nbsp\;&nbsp\;&nbsp\;&nbsp\;&nbsp\;&nbsp\;&nbsp\;&nbsp\;&nbsp\;&nbsp\;&nbsp\; Team Building - Surprise Adventure</span><br />\n<span style="font-size:10.0pt\;">5:00 p.m.&nbsp\;&nbsp\;&nbsp\;&nbsp\;&nbsp\;&nbsp\;&nbsp\;&nbsp\;&nbsp\;&nbsp\;&nbsp\;&nbsp\;&nbsp\; Survey &amp\; Dismissal<br />\n<br />\n<u><strong>Sponsored by:</strong></u><br />\nGadsden State Community College<br />\nAlabama Power<br />\nJack&#39\;s&nbsp\;</span>
LOCATION:
UID:e.1432.402643
SEQUENCE:3
DTSTAMP:20260420T025542Z
URL:http://business.etowahchamber.org/events/details/leadership-etowah-orientation-day-402643
END:VEVENT

END:VCALENDAR
