BEGIN:VCALENDAR
VERSION:2.0
PRODID:-//ChamberMaster//Event Calendar 2.0//EN
METHOD:PUBLISH
X-PUBLISHED-TTL:P3D
REFRESH-INTERVAL:P3D
CALSCALE:GREGORIAN
BEGIN:VEVENT
DTSTART;VALUE=DATE:20130923
DTEND;VALUE=DATE:20130924
TRANSP:TRANSPARENT
X-MICROSOFT-CDO-ALLDAYEVENT:TRUE
SUMMARY:Legends of the Falls
DESCRIPTION:LEGENDS OF THE FALLS opens September 23\, 2013\n	\n\n\n	 Don't miss our Native American exhibit\, LEGENDS OF THE FALLS\, which will open on September 23\, 2013 in our new Imagination Place Children's exhibit area. There will be artifacts on display representing all Native American people with a special emphasis on southeastern Native Americans. Kids will also learn about myths and legends including our own story of Noccalula.\n\n	In addition to viewing there will be interactive activities as well. Children can participate in a scavenger hunt\, grind corn\, dig for arrowheads and create art in the creation station.\n\n	Museum hours are Monday through Saturday 10AM to 5PM and Sunday 1PM to 5PM. Admission to Legends of the Falls is included with paid admission to Imagination Place Children's Museum. Legends of the Falls will run through November 10\, 2013.
X-ALT-DESC;FMTTYPE=text/html:<div class="content_heading" style="padding: 11px 0px 12px\; margin: 0px\; width: 690px\; float: left\; color: rgb(116\, 116\, 116)\; font-family: Tahoma\, Geneva\, sans-serif\;">\n	<div class="heading" style="padding: 0px\; margin: 0px\; width: 587px\; float: left\;">\n		<h2 style="padding: 0px\; margin: 10px 0px 0px\; color: rgb(184\, 144\, 0)\; font-size: 20px\; font-weight: normal\;">\n			LEGENDS OF THE FALLS opens September 23\, 2013</h2>\n	</div>\n</div>\n<p style="padding: 0px\; margin: 0px 10px 10px\; line-height: 18px\; color: rgb(116\, 116\, 116)\; font-family: Tahoma\, Geneva\, sans-serif\;">\n	&nbsp\;Don&rsquo\;t miss our Native American exhibit\, LEGENDS OF THE FALLS\, which will open on September 23\, 2013 in our new Imagination Place Children&rsquo\;s exhibit area. There will be artifacts on display representing all Native American people with a special emphasis on southeastern Native Americans. Kids will also learn about myths and legends including our own story of Noccalula.</p>\n<p style="padding: 0px\; margin: 0px 10px 10px\; line-height: 18px\; color: rgb(116\, 116\, 116)\; font-family: Tahoma\, Geneva\, sans-serif\;">\n	In addition to viewing there will be interactive activities as well. Children can participate in a scavenger hunt\, grind corn\, dig for arrowheads and create art in the creation station.</p>\n<p style="padding: 0px\; margin: 0px 10px 10px\; line-height: 18px\; color: rgb(116\, 116\, 116)\; font-family: Tahoma\, Geneva\, sans-serif\;">\n	Museum hours are Monday through Saturday 10AM to 5PM and Sunday 1PM to 5PM. Admission to Legends of the Falls is included with paid admission to Imagination Place Children&rsquo\;s Museum. Legends of the Falls will run through November 10\, 2013.</p>\n
LOCATION:Imagination Place Center for Cultural Arts
UID:e.1432.384093
SEQUENCE:3
DTSTAMP:20260423T075430Z
URL:http://business.etowahchamber.org/events/details/legends-of-the-falls-09-23-2013-384093
END:VEVENT

END:VCALENDAR
