BEGIN:VCALENDAR
VERSION:2.0
PRODID:-//ChamberMaster//Event Calendar 2.0//EN
METHOD:PUBLISH
X-PUBLISHED-TTL:P3D
REFRESH-INTERVAL:P3D
CALSCALE:GREGORIAN
BEGIN:VEVENT
DTSTART:20121023T150000Z
DTEND:20121023T163000Z
X-MICROSOFT-CDO-ALLDAYEVENT:FALSE
SUMMARY:"Let's Talk Pink" Breast Cancer Awareness Forum
DESCRIPTION:"Let's Talk Pink:" An Open Question and Answer Forum for Breast Cancer Awareness will feature vendors from around the area\, refreshments\, door prizes and a panel of breast cancer survivors talking about their experiences. Please join us for this wonderful time of fellowship\, hope and encouragement.
X-ALT-DESC;FMTTYPE=text/html:<p>\n	&quot\;Let&#39\;s Talk Pink:&quot\; An Open Question and Answer Forum for Breast Cancer Awareness will feature vendors from around the area\, refreshments\, door prizes and a panel of breast cancer survivors talking about their experiences. Please join us for this wonderful time of fellowship\, hope and encouragement.</p>\n
LOCATION:Wayne C. Rowe Auditorium\, Quality of Life Health Complex 1411 Piedmont Cutoff\, Gadsden
UID:e.1432.382789
SEQUENCE:3
DTSTAMP:20260423T003954Z
URL:http://business.etowahchamber.org/events/details/let-s-talk-pink-breast-cancer-awareness-forum-10-23-2012-382789
END:VEVENT

END:VCALENDAR
