BEGIN:VCALENDAR
VERSION:2.0
PRODID:-//ChamberMaster//Event Calendar 2.0//EN
METHOD:PUBLISH
X-PUBLISHED-TTL:P3D
REFRESH-INTERVAL:P3D
CALSCALE:GREGORIAN
BEGIN:VEVENT
DTSTART:20130517T150000Z
DTEND:20130517T160000Z
X-MICROSOFT-CDO-ALLDAYEVENT:FALSE
SUMMARY:Local Joe's Spotlighted in the ABC 33/40 Taste of Alabama Segment
DESCRIPTION:Local Joe's - ABC 33/40 will broadcast from Local Joes in the Taste of Alabama Segment on Friday\, May 17th at 10am.  Come out and support Local Business!
X-ALT-DESC;FMTTYPE=text/html:Local Joe&#39\;s - ABC 33/40 will broadcast from Local Joes in the Taste of Alabama Segment on Friday\, May 17th at 10am. &nbsp\;Come out and support Local Business!
LOCATION:Local Joe's in Rainbow City
UID:e.1432.383281
SEQUENCE:3
DTSTAMP:20260423T094525Z
URL:http://business.etowahchamber.org/events/details/local-joe-s-spotlighted-in-the-abc-33-40-taste-of-alabama-segment-05-17-2013-383281
END:VEVENT

END:VCALENDAR
