BEGIN:VCALENDAR
VERSION:2.0
PRODID:-//ChamberMaster//Event Calendar 2.0//EN
METHOD:PUBLISH
X-PUBLISHED-TTL:P3D
REFRESH-INTERVAL:P3D
CALSCALE:GREGORIAN
BEGIN:VEVENT
DTSTART;VALUE=DATE:20120622
DTEND;VALUE=DATE:20120625
TRANSP:TRANSPARENT
X-MICROSOFT-CDO-ALLDAYEVENT:TRUE
SUMMARY:LUAU at It's Yogurtime
DESCRIPTION:It's Yogurtime is having a Luau.  \n\nWe will have wonderful tropical flavors like coconut\, pineapple\, mango and so many others.\n\n\n\nWe have fun party gifts for kids and free facepainting on Saturday from 12 to 4.  \n\n\n\nCome and see us and have a great time.
X-ALT-DESC;FMTTYPE=text/html:It&#39\;s Yogurtime is having a Luau. &nbsp\;<br />\nWe will have wonderful tropical flavors like coconut\, pineapple\, mango and so many others.<br />\n<br />\nWe have fun party gifts for kids and free facepainting on Saturday from 12 to 4. &nbsp\;<br />\n<br />\nCome and see us and have a great time.<br />\n
LOCATION:It's Yogurtime - Gadsden next to the AT&T store on Rainbow Drive
UID:e.1432.381469
SEQUENCE:3
DTSTAMP:20260422T192410Z
URL:http://business.etowahchamber.org/events/details/luau-at-it-s-yogurtime-06-22-2012-381469
END:VEVENT

END:VCALENDAR
