BEGIN:VCALENDAR
VERSION:2.0
PRODID:-//ChamberMaster//Event Calendar 2.0//EN
METHOD:PUBLISH
X-PUBLISHED-TTL:P3D
REFRESH-INTERVAL:P3D
CALSCALE:GREGORIAN
BEGIN:VEVENT
DTSTART:20120621T160000Z
DTEND:20120621T180000Z
X-MICROSOFT-CDO-ALLDAYEVENT:FALSE
SUMMARY:Lunch to Learn Gardening Series- Container Gardening
DESCRIPTION:The Etowah County Extension Office will present a free event over the lunch hour in which you can learn all there is to learn about the art of container gardening.  Be sure to bring your brown bag lunch with you to learn.
X-ALT-DESC;FMTTYPE=text/html:The Etowah County Extension Office will present a free event over the lunch hour in which you can learn all there is to learn about the art of container gardening.&nbsp\; Be sure to bring your brown bag lunch with you to learn.
LOCATION:Etowah County Extension Office-3200 A West Meighan Boulevard\, Gadsden\, AL 35904
UID:e.1432.381512
SEQUENCE:3
DTSTAMP:20260422T192712Z
URL:http://business.etowahchamber.org/events/details/lunch-to-learn-gardening-series-container-gardening-06-21-2012-381512
END:VEVENT

END:VCALENDAR
