BEGIN:VCALENDAR
VERSION:2.0
PRODID:-//ChamberMaster//Event Calendar 2.0//EN
METHOD:PUBLISH
X-PUBLISHED-TTL:P3D
REFRESH-INTERVAL:P3D
CALSCALE:GREGORIAN
BEGIN:VEVENT
DTSTART:20120816T160000Z
DTEND:20120816T180000Z
X-MICROSOFT-CDO-ALLDAYEVENT:FALSE
SUMMARY:Lunch to Learn Series- Gardening- Fire Ant Control
DESCRIPTION:The Etowah County Extension Office will present a Lunch to Learn series over the lunch hour about the art of controlling fire ants.  The event is free\, just make sure that you bring your own brown bag lunch while learning.
X-ALT-DESC;FMTTYPE=text/html:The Etowah County Extension Office will present a Lunch to Learn series over the lunch hour about the art of controlling fire ants.&nbsp\; The event is free\, just make sure that you bring your own brown bag lunch while learning.&nbsp\; 
LOCATION:Etowah County Extension Office-3200 A West Meighan Boulevard\, Gadsden\, AL 35904
UID:e.1432.381514
SEQUENCE:3
DTSTAMP:20260422T215357Z
URL:http://business.etowahchamber.org/events/details/lunch-to-learn-series-gardening-fire-ant-control-08-16-2012-381514
END:VEVENT

END:VCALENDAR
