BEGIN:VCALENDAR
VERSION:2.0
PRODID:-//ChamberMaster//Event Calendar 2.0//EN
METHOD:PUBLISH
X-PUBLISHED-TTL:P3D
REFRESH-INTERVAL:P3D
CALSCALE:GREGORIAN
BEGIN:VEVENT
DTSTART:20120719T160000Z
DTEND:20120719T180000Z
X-MICROSOFT-CDO-ALLDAYEVENT:FALSE
SUMMARY:Lunch to Learn Series0Gardeing- Herbs
DESCRIPTION:The Etowah County Extension Office will present a Lunch to Learn series on Herb gardening over the lunch hour.  Th eevnt is free\, just make sure to bring your own brown bag lunch.  You will learn all there is to know about herb gardening.
X-ALT-DESC;FMTTYPE=text/html:The Etowah County Extension Office will present a Lunch to Learn series on Herb gardening over the lunch hour.&nbsp\; Th eevnt is free\, just make sure to bring your own brown bag lunch.&nbsp\; You will learn all there is to know about herb gardening.&nbsp\; 
LOCATION:Etowah County Extension Office-3200 A West Meighan Boulevard\, Gadsden\, AL 35904
UID:e.1432.381513
SEQUENCE:3
DTSTAMP:20260422T214905Z
URL:http://business.etowahchamber.org/events/details/lunch-to-learn-series0gardeing-herbs-07-19-2012-381513
END:VEVENT

END:VCALENDAR
