BEGIN:VCALENDAR
VERSION:2.0
PRODID:-//ChamberMaster//Event Calendar 2.0//EN
METHOD:PUBLISH
X-PUBLISHED-TTL:P3D
REFRESH-INTERVAL:P3D
CALSCALE:GREGORIAN
BEGIN:VEVENT
DTSTART:20131006T193000Z
DTEND:20131006T213000Z
X-MICROSOFT-CDO-ALLDAYEVENT:FALSE
SUMMARY:"Make A Joyful Noise"\, the first concert of the Gadsden Symphony Orchestra
DESCRIPTION:"Make A Joyful Noise"\, the fist concert of the Gadsden Symphony Orchestra will be this coming Sunday\, October 6th at 2:30pm.  The concert will be held at the Gadsden City High School Performance Center.  It will be an inspiring and enjoyable concert featuring the Alabama School of Fine Arts Choir performing with our symphony.  The audience will have the opportunity to participate in singing along with the orchestra and choir in traditional hymns - Amazing Grace\, O For a Thousand Tongues to Sing and The Old Rugged Cross.  This will be a great performance by two impressive musical organizations which you will thoroughly enjoy and be very blessed.\n\n\n\nBring your church bulletin and receive $5 off ticket price.
X-ALT-DESC;FMTTYPE=text/html:&quot\;Make A Joyful Noise&quot\;\, the fist concert of the Gadsden Symphony Orchestra will be this coming Sunday\, October 6th at 2:30pm.&nbsp\; The concert will be held at the Gadsden City High School Performance Center.&nbsp\; It will be an inspiring and enjoyable concert featuring the Alabama School of Fine Arts Choir performing with our symphony.&nbsp\; The audience will have the opportunity to participate in singing along with the orchestra and choir in traditional hymns - Amazing Grace\, O For a Thousand Tongues to Sing and The Old Rugged Cross.&nbsp\; This will be a great performance by two impressive musical organizations which you will thoroughly enjoy and be very blessed.<br />\n<br />\nBring your church bulletin and receive $5 off ticket price.
LOCATION:Gadsden City High School Performance Center
UID:e.1432.384126
SEQUENCE:3
DTSTAMP:20260423T052345Z
URL:http://business.etowahchamber.org/events/details/make-a-joyful-noise-the-first-concert-of-the-gadsden-symphony-orchestra-10-06-2013-384126
END:VEVENT

END:VCALENDAR
