BEGIN:VCALENDAR
VERSION:2.0
PRODID:-//ChamberMaster//Event Calendar 2.0//EN
METHOD:PUBLISH
X-PUBLISHED-TTL:P3D
REFRESH-INTERVAL:P3D
CALSCALE:GREGORIAN
BEGIN:VEVENT
DTSTART:20140328T230000Z
DTEND:20140329T030000Z
X-MICROSOFT-CDO-ALLDAYEVENT:FALSE
SUMMARY:Mancave March Madness and Casino Night (Honey's Welcome)
DESCRIPTION:Mancave March Madness and Casino Night (Honey's welcome)\n\nEvent to benefit The Council on Aging of Etowah County\n\nEnjoy food\, fun and basketball all at the same time.
X-ALT-DESC;FMTTYPE=text/html:Mancave March Madness and Casino Night (Honey&#39\;s welcome)<br />\nEvent to benefit The Council on Aging of Etowah County<br />\nEnjoy food\, fun and basketball all at the same time.<br />\n&nbsp\;
LOCATION:Back Forty Beer 200 N. 6th St. Gadsden\, AL
UID:e.1432.384396
SEQUENCE:3
DTSTAMP:20260422T223204Z
URL:http://business.etowahchamber.org/events/details/mancave-march-madness-and-casino-night-honey-s-welcome-03-28-2014-384396
END:VEVENT

END:VCALENDAR
