BEGIN:VCALENDAR
VERSION:2.0
PRODID:-//ChamberMaster//Event Calendar 2.0//EN
METHOD:PUBLISH
X-PUBLISHED-TTL:P3D
REFRESH-INTERVAL:P3D
CALSCALE:GREGORIAN
BEGIN:VEVENT
DTSTART:20130518T170000Z
DTEND:20130518T220000Z
X-MICROSOFT-CDO-ALLDAYEVENT:FALSE
SUMMARY:Marines and FMF Corpsmen Cookout
DESCRIPTION:In honor of all Marines and FMF Corpsmen\, the Marine Corps League is sponsoring a cookout (hamburgers and hot dogs) \n\n\n\nBring your family and come join us for an afternoon of food fun and fellowship at the park.
X-ALT-DESC;FMTTYPE=text/html:In honor of all Marines and FMF Corpsmen\, the Marine Corps League is sponsoring a cookout (hamburgers and hot dogs)&nbsp\;<br />\n<br />\nBring your family and come join us for an afternoon of food fun and fellowship at the park. 
LOCATION:Maragne Park on Albert Rains Blvd\,
UID:e.1432.383270
SEQUENCE:3
DTSTAMP:20260423T094317Z
URL:http://business.etowahchamber.org/events/details/marines-and-fmf-corpsmen-cookout-05-18-2013-383270
END:VEVENT

END:VCALENDAR
