BEGIN:VCALENDAR
VERSION:2.0
PRODID:-//ChamberMaster//Event Calendar 2.0//EN
METHOD:PUBLISH
X-PUBLISHED-TTL:P3D
REFRESH-INTERVAL:P3D
CALSCALE:GREGORIAN
BEGIN:VEVENT
DTSTART:20140423T180000Z
DTEND:20140423T223000Z
X-MICROSOFT-CDO-ALLDAYEVENT:FALSE
SUMMARY:Marrow Donor Registry Drive
DESCRIPTION:Morgan Harris would like to inform you of a bone marrow drive that will be held at Southside High School through Be the Match Foundation. It will be held next Wednesday\, April 23rd from 1-5:30 pm in the school lobby. Donors must be between the ages of 18 and 44\, so this drive is mainly for high school seniors\, teachers\, faculty\, and any parents that are interested. Contrary to popular belief\, the drive itself will not include surgery but instead\, four simple swabs of the cheek and some paperwork\, making it a very quick process.
X-ALT-DESC;FMTTYPE=text/html:<span style="font-family:times new roman\,serif\;"><span style="font-size:12.0pt\;">Morgan Harris would like to inform you of a bone marrow drive that will be held at Southside High School through Be the Match Foundation. It will be held next Wednesday\, April 23rd from 1-5:30 pm in the school lobby. Donors must be between the ages of 18 and 44\, so this drive is mainly for high school seniors\, teachers\, faculty\, and any parents that are interested. Contrary to popular belief\, the drive itself will not include surgery but instead\, four simple swabs of the cheek and some paperwork\, making it a very quick process.</span></span>
LOCATION:Southside High School Lobby 2361 School Drive Gadsden\, AL
UID:e.1432.384450
SEQUENCE:3
DTSTAMP:20260422T210951Z
URL:http://business.etowahchamber.org/events/details/marrow-donor-registry-drive-04-23-2014-384450
END:VEVENT

END:VCALENDAR
