BEGIN:VCALENDAR
VERSION:2.0
PRODID:-//ChamberMaster//Event Calendar 2.0//EN
METHOD:PUBLISH
X-PUBLISHED-TTL:P3D
REFRESH-INTERVAL:P3D
CALSCALE:GREGORIAN
BEGIN:VEVENT
DTSTART:20130409T170000Z
DTEND:20130409T210000Z
X-MICROSOFT-CDO-ALLDAYEVENT:FALSE
SUMMARY:Marshall County Career Expo hosted by Snead State Community College
DESCRIPTION:The Marshall County Career Expo will be held on April 9\, 2013 from 12:00-4:00pm in the Plunkett-Wallace Gymnasium. Snead State is pleased to host this event for the fourth year and we are expecting a larger turn out than in the past three years.  This is a community event\, the public is invited and a great way for you to promote your business or recruit employees.  We would like to invite you to be an exhibitor with no charge to participate.  You can attend even if you currently do not any have job openings but would like the community to know more about careers at your company. Convenient online exhibitor registration can be found on our website www.snead.edu under Community/Career Expo.\n\n \n\nThis year sponsorship opportunities for the event are available for only $250.  By becoming a sponsor\, promotional benefit for your company will include:\n\n\n	\n		Your company literature/promotional material can be included in the attendee's bags. \n	\n		Your name prominently displayed in bold in the newspaper ads that publish before the event.\n	\n		Your logo placed on the front of the Career Expo handout that will be given at the door to all in attendance.\n\n \n\nThe deadline for sponsorship is March 29.
X-ALT-DESC;FMTTYPE=text/html:<span style="font-size: 10pt"><span style="font-family: arial\, sans-serif">The Marshall County Career Expo will be held on <strong>April 9\, 2013 from 12:00-4:00pm</strong> in the Plunkett-Wallace Gymnasium.&nbsp\;Snead State is pleased to host this event for the fourth year and we are expecting a larger turn out than in the past three years.&nbsp\;&nbsp\;<strong>This is a community event\, the public is invited and a great way for you to promote your business or recruit employees</strong>.&nbsp\; We would like to invite you to be an exhibitor with <strong>no charge </strong>to participate. &nbsp\;You can attend even if you currently do not any have job openings but would like the community to know more about careers at your company. Convenient online exhibitor registration can be found on our website </span><a href="http://www.snead.edu/">www.snead.edu</a> under Community/Career Expo.</span><br />\n&nbsp\;<br />\n<span style="font-size: 10pt"><span style="font-family: arial\, sans-serif">This year sponsorship opportunities for the event are available for only $250.&nbsp\; By becoming a sponsor\, promotional benefit for your company will include:</span></span><br />\n<ul>\n	<li>\n		<span style="font-size: 10pt"><span style="font-family: arial\, sans-serif">Your company literature/promotional material can be included in the attendee&rsquo\;s bags. </span></span></li>\n	<li>\n		<span style="font-size: 10pt"><span style="font-family: arial\, sans-serif">Your name prominently displayed in bold in the newspaper ads that publish before the event.</span></span></li>\n	<li>\n		<span style="font-size: 10pt"><span style="font-family: arial\, sans-serif">Your logo placed on the front of the Career Expo handout that will be given at the door to all in attendance.</span></span></li>\n</ul>\n&nbsp\;<br />\n<span style="font-size: 10pt"><span style="font-family: arial\, sans-serif">The deadline for sponsorship is March 29.&nbsp\; </span></span><br />\n
LOCATION:Snead State Community College Plunkett-Wallace Gymnasium\, 509 West Mann Ave.\, Boaz\, AL 35957
UID:e.1432.383140
SEQUENCE:3
DTSTAMP:20260423T082407Z
URL:http://business.etowahchamber.org/events/details/marshall-county-career-expo-hosted-by-snead-state-community-college-04-09-2013-383140
END:VEVENT

END:VCALENDAR
