BEGIN:VCALENDAR
VERSION:2.0
PRODID:-//ChamberMaster//Event Calendar 2.0//EN
METHOD:PUBLISH
X-PUBLISHED-TTL:P3D
REFRESH-INTERVAL:P3D
CALSCALE:GREGORIAN
BEGIN:VEVENT
DTSTART:20120914T230000Z
DTEND:20120915T010000Z
X-MICROSOFT-CDO-ALLDAYEVENT:FALSE
SUMMARY:Meadows Gallery Features Kris Catoe
DESCRIPTION:The Meadows Gallery will have a new show by Gadsden Artist Kris Catoe.  The show opens September 14\, with a reception from 6:00-8:00 p.m.\, and will run through October 26
X-ALT-DESC;FMTTYPE=text/html:The Meadows Gallery will have a new show by Gadsden Artist Kris Catoe.&nbsp\; The show opens September 14\, with a reception from 6:00-8:00 p.m.\, and will run through October 26
LOCATION:Meadows Library Gallery
UID:e.1432.382146
SEQUENCE:3
DTSTAMP:20260422T231420Z
URL:http://business.etowahchamber.org/events/details/meadows-gallery-features-kris-catoe-09-14-2012-382146
END:VEVENT

END:VCALENDAR
