BEGIN:VCALENDAR
VERSION:2.0
PRODID:-//ChamberMaster//Event Calendar 2.0//EN
METHOD:PUBLISH
X-PUBLISHED-TTL:P3D
REFRESH-INTERVAL:P3D
CALSCALE:GREGORIAN
BEGIN:VEVENT
DTSTART:20150108T160000Z
DTEND:20150108T180000Z
X-MICROSOFT-CDO-ALLDAYEVENT:FALSE
SUMMARY:Medical Matters- Seniors Outfitted for Defense
DESCRIPTION:Learn about sign & symptoms of heart attack and stroke\, healthy blood pressure ranges\, safety with medications and supplements\, as well as tips for a healthy diet.\n\nSpeaker: Jaide Winn\, RN\n\n*Free to attend\, RSVP at (256) 549-8147
X-ALT-DESC;FMTTYPE=text/html:Learn about sign &amp\; symptoms of heart attack and stroke\, healthy blood pressure ranges\, safety&nbsp\;with medications and supplements\, as well as tips for a healthy diet.<br />\nSpeaker: Jaide Winn\, RN<br />\n*Free to attend\, RSVP at (256) 549-8147
LOCATION:Etowah County Courthouse\, Room 205
UID:e.1432.385419
SEQUENCE:3
DTSTAMP:20260422T105807Z
URL:http://business.etowahchamber.org/events/details/medical-matters-seniors-outfitted-for-defense-01-08-2015-385419
END:VEVENT

END:VCALENDAR
